

BEGIN:VCALENDAR
VERSION:2.0
PRODID:-//Whitewater Center - ECPv6.7.0//NONSGML v1.0//EN
CALSCALE:GREGORIAN
METHOD:PUBLISH
X-ORIGINAL-URL:https://center.whitewater.org
X-WR-CALDESC:Events for Whitewater Center
REFRESH-INTERVAL;VALUE=DURATION:PT1H
X-Robots-Tag:noindex
X-PUBLISHED-TTL:PT1H
BEGIN:VTIMEZONE
TZID:UTC
BEGIN:STANDARD
TZOFFSETFROM:+0000
TZOFFSETTO:+0000
TZNAME:UTC
DTSTART:20240101T000000
END:STANDARD
END:VTIMEZONE
BEGIN:VEVENT
DTSTART;TZID=UTC:20240704T080000
DTEND;TZID=UTC:20240704T210000
DTSTAMP:20260421T070939
CREATED:20220603T154345Z
LAST-MODIFIED:20240520T172451Z
UID:52774-1720080000-1720126800@center.whitewater.org
SUMMARY:Tread\, White & Blue Trail Race
DESCRIPTION:
URL:https://center.whitewater.org/event/tread-white-and-blue/
CATEGORIES:Whitewater Race Series
END:VEVENT
END:VCALENDAR