

BEGIN:VCALENDAR
VERSION:2.0
PRODID:-//Whitewater Center - ECPv6.7.0//NONSGML v1.0//EN
CALSCALE:GREGORIAN
METHOD:PUBLISH
X-WR-CALNAME:Whitewater Center
X-ORIGINAL-URL:https://center.whitewater.org
X-WR-CALDESC:Events for Whitewater Center
REFRESH-INTERVAL;VALUE=DURATION:PT1H
X-Robots-Tag:noindex
X-PUBLISHED-TTL:PT1H
BEGIN:VTIMEZONE
TZID:UTC
BEGIN:STANDARD
TZOFFSETFROM:+0000
TZOFFSETTO:+0000
TZNAME:UTC
DTSTART:20240101T000000
END:STANDARD
END:VTIMEZONE
BEGIN:VEVENT
DTSTART;TZID=UTC:20240113T080000
DTEND;TZID=UTC:20240113T123000
DTSTAMP:20260421T214657
CREATED:20231026T185320Z
LAST-MODIFIED:20231026T185507Z
UID:59895-1705132800-1705149000@center.whitewater.org
SUMMARY:Rocky Road Half Marathon\, 10K & 5K
DESCRIPTION:
URL:https://center.whitewater.org/event/rocky-road/
CATEGORIES:Whitewater Race Series
END:VEVENT
END:VCALENDAR