

BEGIN:VCALENDAR
VERSION:2.0
PRODID:-//Whitewater Center - ECPv6.7.0//NONSGML v1.0//EN
CALSCALE:GREGORIAN
METHOD:PUBLISH
X-WR-CALNAME:Whitewater Center
X-ORIGINAL-URL:https://center.whitewater.org
X-WR-CALDESC:Events for Whitewater Center
REFRESH-INTERVAL;VALUE=DURATION:PT1H
X-Robots-Tag:noindex
X-PUBLISHED-TTL:PT1H
BEGIN:VTIMEZONE
TZID:America/New_York
BEGIN:DAYLIGHT
TZOFFSETFROM:-0500
TZOFFSETTO:-0400
TZNAME:EDT
DTSTART:20240310T070000
END:DAYLIGHT
BEGIN:STANDARD
TZOFFSETFROM:-0400
TZOFFSETTO:-0500
TZNAME:EST
DTSTART:20241103T060000
END:STANDARD
TZID:America/Halifax
BEGIN:DAYLIGHT
TZOFFSETFROM:-0400
TZOFFSETTO:-0300
TZNAME:ADT
DTSTART:20240310T060000
END:DAYLIGHT
BEGIN:STANDARD
TZOFFSETFROM:-0300
TZOFFSETTO:-0400
TZNAME:AST
DTSTART:20241103T050000
END:STANDARD
TZID:UTC
BEGIN:STANDARD
TZOFFSETFROM:+0000
TZOFFSETTO:+0000
TZNAME:UTC
DTSTART:20240101T000000
END:STANDARD
END:VTIMEZONE
BEGIN:VEVENT
DTSTART;VALUE=DATE:20240401
DTEND;VALUE=DATE:20240402
DTSTAMP:20260424T215148
CREATED:20240318T145530Z
LAST-MODIFIED:20240401T160152Z
UID:61566-1711929600-1712015999@center.whitewater.org
SUMMARY:Hours of Operation
DESCRIPTION:Pass activities: 10:00 am – 7:00 pm \nTrail Center – Food & Beverage: 10:00 am – 7:00 pm \nWater Release: 11:30 am – 7:00 pm \nPump House Biergarten: 11:30 am – 7:00 pm \nRiver’s Edge: 11:00 am – 7:00 pm \nThe Market: 10:00 am – 4:00 pm \nBarley House: 9:00 am – 8:00 pm \nOutfitters: 9:00 am – 8:00 pm \nTrails: Please check the current trail status.
URL:https://center.whitewater.org/event/hours-of-operation-04-01-2024/
END:VEVENT
BEGIN:VEVENT
DTSTART;VALUE=DATE:20240402
DTEND;VALUE=DATE:20240403
DTSTAMP:20260424T215148
CREATED:20240318T153737Z
LAST-MODIFIED:20240402T222326Z
UID:61567-1712016000-1712102399@center.whitewater.org
SUMMARY:Hours of Operation
DESCRIPTION:Pass activities: 10:00 am – 7:00 pm \nTrail Center – Food & Beverage: 10:00 am – 7:00 pm \nWater Release: 11:30 am – 8:30 pm \nPump House Biergarten: 11:30 am – 7:00 pm \nRiver’s Edge: 11:30 am – 6:30 pm \nThe Market: 10:00 am – 4:00 pm \nBarley House: 9:00 am – 8:00 pm \nOutfitters: 9:00 am – 8:00 pm \nTrails: Please check the current trail status.
URL:https://center.whitewater.org/event/hours-of-operation-04-02-2024/
END:VEVENT
BEGIN:VEVENT
DTSTART;VALUE=DATE:20240403
DTEND;VALUE=DATE:20240404
DTSTAMP:20260424T215148
CREATED:20240318T153737Z
LAST-MODIFIED:20240403T213108Z
UID:61568-1712102400-1712188799@center.whitewater.org
SUMMARY:Hours of Operation
DESCRIPTION:Pass activities: 10:00 am – 7:00 pm \nTrail Center – Food & Beverage: 12:00 pm – 7:00 pm \nWater Release: 11:00 am – 7:00 pm \nPump House Biergarten: 11:00 am – 7:00 pm \nRiver’s Edge: 11:30 am – 6:30 pm \nThe Market: Closed \nBarley House: 9:00 am – 8:00 pm \nOutfitters: 9:00 am – 8:00 pm \nTrails: Please check the current trail status.
URL:https://center.whitewater.org/event/hours-of-operation-04-03-2024/
END:VEVENT
BEGIN:VEVENT
DTSTART;VALUE=DATE:20240404
DTEND;VALUE=DATE:20240405
DTSTAMP:20260424T215148
CREATED:20240318T153738Z
LAST-MODIFIED:20240323T131047Z
UID:61569-1712188800-1712275199@center.whitewater.org
SUMMARY:Hours of Operation
DESCRIPTION:Pass activities: 10:00 am – 7:00 pm \nTrail Center – Food & Beverage: 10:00 am – 7:00 pm \nWater Release: 11:30 am – 7:00 pm \nPump House Biergarten: 11:30 am – 7:00 pm \nRiver’s Edge: 11:00 am – 8:00 pm \nThe Market: 10:00 am – 4:00 pm \nOutfitters: 9:00 am – 8:00 pm \nTrails: Please check the current trail status.
URL:https://center.whitewater.org/event/hours-of-operation-04-04-2024/
END:VEVENT
BEGIN:VEVENT
DTSTART;VALUE=DATE:20240405
DTEND;VALUE=DATE:20240406
DTSTAMP:20260424T215148
CREATED:20240318T153738Z
LAST-MODIFIED:20240404T152109Z
UID:61570-1712275200-1712361599@center.whitewater.org
SUMMARY:Hours of Operation
DESCRIPTION:Pass activities: 10:00 am – 7:00 pm \nTrail Center – Food & Beverage: 10:00 am – 7:00 pm \nWater Release: 11:30 am – 7:00 pm \nPump House Biergarten: 11:30 am – 7:00 pm \nRiver’s Edge: 11:00 am – 8:00 pm \nThe Market: 10:00 am – 4:00 pm \nBarley House: 9:00 am – 8:00 pm \nOutfitters: 9:00 am – 8:00 pm \nTrails: Please check the current trail status.
URL:https://center.whitewater.org/event/hours-of-operation-04-05-2024/
END:VEVENT
BEGIN:VEVENT
DTSTART;TZID=America/Halifax:20240405T200500
DTEND;TZID=America/Halifax:20240405T210000
DTSTAMP:20260424T215148
CREATED:20231005T134415Z
LAST-MODIFIED:20240319T194310Z
UID:59674-1712347500-1712350800@center.whitewater.org
SUMMARY:Film Series: Brit Rock
DESCRIPTION: 
URL:https://center.whitewater.org/event/film-series-brit-rock/
CATEGORIES:Whitewater Film Series
END:VEVENT
BEGIN:VEVENT
DTSTART;VALUE=DATE:20240406
DTEND;VALUE=DATE:20240407
DTSTAMP:20260424T215148
CREATED:20240318T153739Z
LAST-MODIFIED:20240404T152110Z
UID:61571-1712361600-1712447999@center.whitewater.org
SUMMARY:Hours of Operation
DESCRIPTION:Pass activities: 10:00 am – 7:00 pm \nTrail Center – Food & Beverage: 10:00 am – 7:00 pm \nWater Release: 11:30 am – 7:00 pm \nPump House Biergarten: 11:30 am – 7:00 pm \nRiver’s Edge: 11:00 am – 8:00 pm \nThe Market: 10:00 am – 4:00 pm \nBarley House: 9:00 am – 8:00 pm \nOutfitters: 9:00 am – 8:00 pm \nTrails: Please check the current trail status.
URL:https://center.whitewater.org/event/hours-of-operation-04-06-2024/
END:VEVENT
BEGIN:VEVENT
DTSTART;TZID=America/Halifax:20240406T080000
DTEND;TZID=America/Halifax:20240406T080000
DTSTAMP:20260424T215148
CREATED:20220707T144753Z
LAST-MODIFIED:20240307T140704Z
UID:53411-1712390400-1712390400@center.whitewater.org
SUMMARY:Used Boat & Bike Sale
DESCRIPTION:Sale begins at 8:00am while supplies last. \n  \n 
URL:https://center.whitewater.org/event/used-boat-bike-sale/
END:VEVENT
BEGIN:VEVENT
DTSTART;TZID=America/Halifax:20240406T080000
DTEND;TZID=America/Halifax:20240406T150000
DTSTAMP:20260424T215148
CREATED:20220119T152109Z
LAST-MODIFIED:20230623T184635Z
UID:50861-1712390400-1712415600@center.whitewater.org
SUMMARY:New South Trail Marathon
DESCRIPTION:
URL:https://center.whitewater.org/event/new-south-trail-marathon/
CATEGORIES:Whitewater Race Series
END:VEVENT
BEGIN:VEVENT
DTSTART;VALUE=DATE:20240407
DTEND;VALUE=DATE:20240408
DTSTAMP:20260424T215148
CREATED:20240318T153739Z
LAST-MODIFIED:20240404T152326Z
UID:61572-1712448000-1712534399@center.whitewater.org
SUMMARY:Hours of Operation
DESCRIPTION:Pass activities: 10:00 am – 7:00 pm \nTrail Center – Food & Beverage: 10:00 am – 7:00 pm \nWater Release: 11:00 am – 7:00 pm \nPump House Biergarten: 11:30 am – 7:00 pm \nRiver’s Edge: 11:00 am – 8:00 pm \nThe Market: 10:00 am – 4:00 pm \nBarley House: 9:00 am – 8:00 pm \nOutfitters: 9:00 am – 8:00 pm \nTrails: Please check the current trail status.
URL:https://center.whitewater.org/event/hours-of-operation-04-07-2024/
END:VEVENT
BEGIN:VEVENT
DTSTART;VALUE=DATE:20240408
DTEND;VALUE=DATE:20240409
DTSTAMP:20260424T215148
CREATED:20240318T154135Z
LAST-MODIFIED:20240408T181948Z
UID:61573-1712534400-1712620799@center.whitewater.org
SUMMARY:Hours of Operation
DESCRIPTION:Pass activities: 10:00 am – 6:00 pm \nTrail Center – Food & Beverage: 11:30 am – 6:00 pm \nWater Release: 11:30 am – 5:30 pm \nPump House Biergarten: Closed \nRiver’s Edge: 11:30 am – 6:00 pm \nThe Market: Closed \nOff Leash: 5:00 pm – 8:30 pm \nOutfitters: 9:00 am – 7:00 pm \nTrails: Please check the current trail status.
URL:https://center.whitewater.org/event/hours-of-operation-04-08-2024/
END:VEVENT
BEGIN:VEVENT
DTSTART;VALUE=DATE:20240409
DTEND;VALUE=DATE:20240410
DTSTAMP:20260424T215148
CREATED:20240318T163628Z
LAST-MODIFIED:20240409T165035Z
UID:61574-1712620800-1712707199@center.whitewater.org
SUMMARY:Hours of Operation
DESCRIPTION:Pass activities: 10:00 am – 6:00 pm \nTrail Center – Food & Beverage: 11:30 am – 6:00 pm \nWater Release: 11:30 am – 5:30 pm \nPump House Biergarten: Closed \nRiver’s Edge: Closed \nThe Market: Closed \nOff Leash: 12:00 pm – 7:00 pm \nOutfitters: 9:00 am – 7:00 pm \nTrails: Please check the current trail status.
URL:https://center.whitewater.org/event/hours-of-operation-04-09-2024/
END:VEVENT
BEGIN:VEVENT
DTSTART;VALUE=DATE:20240410
DTEND;VALUE=DATE:20240411
DTSTAMP:20260424T215148
CREATED:20240318T163628Z
LAST-MODIFIED:20240410T145427Z
UID:61575-1712707200-1712793599@center.whitewater.org
SUMMARY:Hours of Operation
DESCRIPTION:Pass activities: 10:00 am – 6:00 pm \nTrail Center – Food & Beverage: 11:00 am – 6:00 pm \nWater Release: 11:30 am – 5:30 pm \nPump House Biergarten: Closed \nRiver’s Edge: Closed \nThe Market: Closed \nOff Leash: 9:00 am – 8:00 pm \nOutfitters: 9:00 am – 7:00 pm \nTrails: Please check the current trail status.
URL:https://center.whitewater.org/event/hours-of-operation-04-10-2024/
END:VEVENT
BEGIN:VEVENT
DTSTART;VALUE=DATE:20240411
DTEND;VALUE=DATE:20240412
DTSTAMP:20260424T215148
CREATED:20240318T163629Z
LAST-MODIFIED:20240411T190340Z
UID:61576-1712793600-1712879999@center.whitewater.org
SUMMARY:Hours of Operation
DESCRIPTION:Pass activities: 10:00 am – 6:00 pm \nTrail Center – Food & Beverage: 11:00 am – 6:00 pm \nWater Release: 11:30 am – 4:30 pm \nPump House Biergarten: Closed \nRiver’s Edge: Closed \nThe Market: Closed \nOff Leash: Closed \nOutfitters: 9:00 am – 7:00 pm \nTrails: Please check the current trail status.
URL:https://center.whitewater.org/event/hours-of-operation-04-11-2024/
END:VEVENT
BEGIN:VEVENT
DTSTART;TZID=UTC:20240411T180000
DTEND;TZID=UTC:20240411T200000
DTSTAMP:20260424T215148
CREATED:20230221T202545Z
LAST-MODIFIED:20240404T193035Z
UID:56556-1712858400-1712865600@center.whitewater.org
SUMMARY:Job Fair
DESCRIPTION:Job Fair events give prospective employees the opportunity to gain insight into organizational culture and operations and learn more about available opportunities. \nLearn more
URL:https://center.whitewater.org/event/jobfair-2/2024-04-11/
END:VEVENT
BEGIN:VEVENT
DTSTART;VALUE=DATE:20240412
DTEND;VALUE=DATE:20240413
DTSTAMP:20260424T215148
CREATED:20240318T163629Z
LAST-MODIFIED:20240412T124430Z
UID:61577-1712880000-1712966399@center.whitewater.org
SUMMARY:Hours of Operation
DESCRIPTION:Pass activities: 10:00 am – 7:00 pm \nTrail Center – Food & Beverage: 11:00 am – 6:00 pm \nWater Release: 11:30 am – 5:30 pm \nPump House Biergarten: 6:00 pm – 9:00 pm \nRiver’s Edge: 11:00 am – 7:00 pm \nThe Market: 10:00 am – 5:00 pm \nOff Leash: 9:00 am – 8:00 pm \nOutfitters: 9:00 am – 8:00 pm \nTrails: Please check the current trail status.
URL:https://center.whitewater.org/event/hours-of-operation-04-12-2024/
END:VEVENT
BEGIN:VEVENT
DTSTART;TZID=America/Halifax:20240412T201000
DTEND;TZID=America/Halifax:20240412T211000
DTSTAMP:20260424T215148
CREATED:20231005T133609Z
LAST-MODIFIED:20240319T194402Z
UID:59672-1712952600-1712956200@center.whitewater.org
SUMMARY:Film Series: Chasing
DESCRIPTION: 
URL:https://center.whitewater.org/event/film-series-chasing/
CATEGORIES:Whitewater Film Series
END:VEVENT
BEGIN:VEVENT
DTSTART;VALUE=DATE:20240413
DTEND;VALUE=DATE:20240414
DTSTAMP:20260424T215148
CREATED:20240318T163630Z
LAST-MODIFIED:20240404T153923Z
UID:61578-1712966400-1713052799@center.whitewater.org
SUMMARY:Hours of Operation
DESCRIPTION:Pass activities: 10:00 am – 7:00 pm \nTrail Center – Food & Beverage: 10:00 am – 7:30 pm \nWater Release: 11:30 am – 7:00 pm \nPump House Biergarten: 10:30 am – 6:00 pm \nRiver’s Edge: 11:00 am – 8:00 pm \nThe Market: 10:00 am – 5:00 pm \nBarley House: 9:00 am – 8:00 pm \nOutfitters: 9:00 am – 8:00 pm \nTrails: Please check the current trail status.
URL:https://center.whitewater.org/event/hours-of-operation-04-13-2024/
END:VEVENT
BEGIN:VEVENT
DTSTART;VALUE=DATE:20240414
DTEND;VALUE=DATE:20240415
DTSTAMP:20260424T215148
CREATED:20240318T163630Z
LAST-MODIFIED:20240404T154046Z
UID:61579-1713052800-1713139199@center.whitewater.org
SUMMARY:Hours of Operation
DESCRIPTION:Pass activities: 10:00 am – 7:00 pm \nTrail Center – Food & Beverage: 10:00 am – 7:30 pm \nWater Release: 11:30 am – 7:00 pm \nPump House Biergarten: 10:30 am – 6:00 pm \nRiver’s Edge: 11:00 am – 8:00 pm \nThe Market: 10:00 am – 5:00 pm \nBarley House: 9:00 am – 8:00 pm \nOutfitters: 9:00 am – 8:00 pm \nTrails: Please check the current trail status.
URL:https://center.whitewater.org/event/hours-of-operation-04-14-2024/
END:VEVENT
BEGIN:VEVENT
DTSTART;TZID=America/Halifax:20240414T093000
DTEND;TZID=America/Halifax:20240414T113000
DTSTAMP:20260424T215148
CREATED:20230307T212155Z
LAST-MODIFIED:20240319T152620Z
UID:56679-1713087000-1713094200@center.whitewater.org
SUMMARY:Balanced Brunch
DESCRIPTION:
URL:https://center.whitewater.org/event/balanced-brunch-4/2024-04-14/
CATEGORIES:Adventure Dining
END:VEVENT
BEGIN:VEVENT
DTSTART;VALUE=DATE:20240415
DTEND;VALUE=DATE:20240416
DTSTAMP:20260424T215148
CREATED:20240318T164110Z
LAST-MODIFIED:20240409T140115Z
UID:61580-1713139200-1713225599@center.whitewater.org
SUMMARY:Hours of Operation
DESCRIPTION:Pass activities: 10:00 am – 6:00 pm \nTrail Center – Food & Beverage: 11:00 am – 6:00 pm \nWater Release: Closed \nPump House Biergarten: Closed \nRiver’s Edge: 11:00 am – 7:00 pm \nThe Market: 10:00 am – 5:00 pm \nOff Leash: 9:00 am – 8:00 pm \nOutfitters: 9:00 am – 7:00 pm \nTrails: Please check the current trail status.
URL:https://center.whitewater.org/event/hours-of-operation-04-15-2024/
END:VEVENT
BEGIN:VEVENT
DTSTART;VALUE=DATE:20240416
DTEND;VALUE=DATE:20240417
DTSTAMP:20260424T215148
CREATED:20240318T165221Z
LAST-MODIFIED:20240415T234006Z
UID:61581-1713225600-1713311999@center.whitewater.org
SUMMARY:Hours of Operation
DESCRIPTION:Pass activities: 10:00 am – 6:00 pm \nTrail Center – Food & Beverage: 11:00 am – 7:00 pm \nWater Release: 11:30 am – 5:30 pm \nPump House Biergarten: Closed \nRiver’s Edge: 11:30 am – 7:00 pm \nThe Market: Closed \nBarley House: 9:00 am – 8:00 pm \nOutfitters: 9:00 am – 7:00 pm \nTrails: Please check the current trail status.
URL:https://center.whitewater.org/event/hours-of-operation-04-16-2024/
END:VEVENT
BEGIN:VEVENT
DTSTART;VALUE=DATE:20240417
DTEND;VALUE=DATE:20240418
DTSTAMP:20260424T215148
CREATED:20240318T165221Z
LAST-MODIFIED:20240417T224516Z
UID:61582-1713312000-1713398399@center.whitewater.org
SUMMARY:Hours of Operation
DESCRIPTION:Pass activities: 10:00 am – 7:00 pm \nTrail Center – Food & Beverage: 12:00 pm – 10:00 pm \nWater Release: 11:00 am – 7:00 pm \nPump House Biergarten: Closed \nRiver’s Edge: Closed \nThe Market: Closed \nOff Leash: 9:00 am – 8:00 pm \nOutfitters: 9:00 am – 8:00 pm \nTrails: Please check the current trail status.
URL:https://center.whitewater.org/event/hours-of-operation-04-17-2024/
END:VEVENT
BEGIN:VEVENT
DTSTART;VALUE=DATE:20240418
DTEND;VALUE=DATE:20240419
DTSTAMP:20260424T215148
CREATED:20240318T165221Z
LAST-MODIFIED:20240418T124923Z
UID:61583-1713398400-1713484799@center.whitewater.org
SUMMARY:Hours of Operation
DESCRIPTION:Pass activities: 10:00 am – 6:00 pm \nTrail Center – Food & Beverage: 11:00 am – 8:00 pm \nWater Release: 10:00 am – 1:30 pm \nPump House Biergarten: Closed \nRiver’s Edge: 11:30 am – 8:00 pm \nThe Market: Closed \nOff Leash: 9:00 am – 8:00 pm \nOutfitters: 9:00 am – 7:00 pm \nTrails: Please check the current trail status.
URL:https://center.whitewater.org/event/hours-of-operation-04-18-2024/
END:VEVENT
BEGIN:VEVENT
DTSTART;VALUE=DATE:20240419
DTEND;VALUE=DATE:20240420
DTSTAMP:20260424T215148
CREATED:20240318T165222Z
LAST-MODIFIED:20240418T125333Z
UID:61584-1713484800-1713571199@center.whitewater.org
SUMMARY:Hours of Operation
DESCRIPTION:Pass activities: 10:00 am – 7:00 pm \nTrail Center – Food & Beverage: 11:00 am – 10:00 pm \nWater Release: 10:00 am – 1:30 pm \nPump House Biergarten: 11:00 am – 11:00 pm \nRiver’s Edge: 11:00 am – 10:30 pm \nThe Market: 10:00 am – 11:00 pm \nOff Leash: 9:00 am – 8:00 pm \nOutfitters: 9:00 am – 9:00 pm \nTrails: Please check the current trail status.
URL:https://center.whitewater.org/event/hours-of-operation-04-19-2024/
END:VEVENT
BEGIN:VEVENT
DTSTART;TZID=America/Halifax:20240419T070000
DTEND;TZID=America/Halifax:20240421T190000
DTSTAMP:20260424T215148
CREATED:20221220T175037Z
LAST-MODIFIED:20240126T150159Z
UID:55722-1713510000-1713726000@center.whitewater.org
SUMMARY:Tuck Fest
DESCRIPTION:
URL:https://center.whitewater.org/event/tuck-fest-3/
CATEGORIES:Festival,Live Music,Whitewater Race Series
END:VEVENT
BEGIN:VEVENT
DTSTART;VALUE=DATE:20240420
DTEND;VALUE=DATE:20240421
DTSTAMP:20260424T215148
CREATED:20240318T165222Z
LAST-MODIFIED:20240421T024940Z
UID:61585-1713571200-1713657599@center.whitewater.org
SUMMARY:Hours of Operation
DESCRIPTION:Pass activities: 10:00 am – 7:00 pm \nTrail Center – Food & Beverage: 10:00 am – 10:00 pm \nWater Release: 10:30 am – 7:00 pm \nPump House Biergarten: 10:00 am – 11:00 pm \nRiver’s Edge: 10:30 am – 10:30 pm \nThe Market: 10:00 am – 10:30 pm \nOff Leash: 11:00 am – 8:00 pm \nOutfitters: 8:00 am – 9:00 pm \nTrails: Please check the current trail status.
URL:https://center.whitewater.org/event/hours-of-operation-04-20-2024/
END:VEVENT
BEGIN:VEVENT
DTSTART;VALUE=DATE:20240421
DTEND;VALUE=DATE:20240422
DTSTAMP:20260424T215148
CREATED:20240318T165222Z
LAST-MODIFIED:20240421T195306Z
UID:61586-1713657600-1713743999@center.whitewater.org
SUMMARY:Hours of Operation
DESCRIPTION:Pass activities: 10:00 am – 6:00 pm \nTrail Center – Food & Beverage: 11:00 am – 7:00 pm \nWater Release: Closed \nPump House Biergarten: Closed \nRiver’s Edge: 11:00 am – 7:00 pm \nThe Market: Closed \nOff Leash: 11:00 am – 6:00 pm \nOutfitters: 9:00 am – 8:00 pm \nTrails: Please check the current trail status.
URL:https://center.whitewater.org/event/hours-of-operation-04-21-2024/
END:VEVENT
BEGIN:VEVENT
DTSTART;VALUE=DATE:20240422
DTEND;VALUE=DATE:20240423
DTSTAMP:20260424T215148
CREATED:20240318T165223Z
LAST-MODIFIED:20240422T005145Z
UID:61587-1713744000-1713830399@center.whitewater.org
SUMMARY:Hours of Operation
DESCRIPTION:Pass activities: 10:00 am – 6:00 pm \nTrail Center – Food & Beverage: 11:00 am – 7:30 pm \nWater Release: 11:30 am – 5:30 pm \nPump House Biergarten: Closed \nRiver’s Edge: Closed \nThe Market: Closed \nOff Leash: 9:00 am – 8:00 pm \nOutfitters: 9:00 am – 7:00 pm \nTrails: Please check the current trail status.
URL:https://center.whitewater.org/event/hours-of-operation-04-22-2024/
END:VEVENT
BEGIN:VEVENT
DTSTART;VALUE=DATE:20240423
DTEND;VALUE=DATE:20240424
DTSTAMP:20260424T215148
CREATED:20240318T175052Z
LAST-MODIFIED:20240423T203705Z
UID:61589-1713830400-1713916799@center.whitewater.org
SUMMARY:Hours of Operation
DESCRIPTION:Pass activities: 10:00 am – 6:00 pm \nTrail Center – Food & Beverage: 11:30 am – 6:00 pm \nWater Release: 11:30 am – 7:00 pm \nPump House Biergarten: Closed \nRiver’s Edge: Closed \nThe Market: Closed \nOff Leash: 9:00 am – 8:00 pm \nOutfitters: 9:00 am – 7:00 pm \nTrails: Please check the current trail status.
URL:https://center.whitewater.org/event/hours-of-operation-04-23-2024/
END:VEVENT
END:VCALENDAR