

BEGIN:VCALENDAR
VERSION:2.0
PRODID:-//Whitewater Center - ECPv6.7.0//NONSGML v1.0//EN
CALSCALE:GREGORIAN
METHOD:PUBLISH
X-WR-CALNAME:Whitewater Center
X-ORIGINAL-URL:https://center.whitewater.org
X-WR-CALDESC:Events for Whitewater Center
REFRESH-INTERVAL;VALUE=DURATION:PT1H
X-Robots-Tag:noindex
X-PUBLISHED-TTL:PT1H
BEGIN:VTIMEZONE
TZID:America/New_York
BEGIN:DAYLIGHT
TZOFFSETFROM:-0500
TZOFFSETTO:-0400
TZNAME:EDT
DTSTART:20240310T070000
END:DAYLIGHT
BEGIN:STANDARD
TZOFFSETFROM:-0400
TZOFFSETTO:-0500
TZNAME:EST
DTSTART:20241103T060000
END:STANDARD
TZID:America/Halifax
BEGIN:DAYLIGHT
TZOFFSETFROM:-0400
TZOFFSETTO:-0300
TZNAME:ADT
DTSTART:20240310T060000
END:DAYLIGHT
BEGIN:STANDARD
TZOFFSETFROM:-0300
TZOFFSETTO:-0400
TZNAME:AST
DTSTART:20241103T050000
END:STANDARD
END:VTIMEZONE
BEGIN:VEVENT
DTSTART;VALUE=DATE:20241218
DTEND;VALUE=DATE:20241219
DTSTAMP:20260425T081023
CREATED:20241204T214140Z
LAST-MODIFIED:20241209T151019Z
UID:65322-1734480000-1734566399@center.whitewater.org
SUMMARY:Hours of Operation
DESCRIPTION:Pass activities: 12:00 pm – 10:00 pm \nTrail Center – Food & Beverage: 12:00 pm – 10:00 pm \nRiver’s Edge: Closed \nOff Leash: 9:00 am – 7:00 pm \nOutfitters: 9:00 am – 8:00 pm \nWildwoods: 11:00 am – 8:00 pm \nTrails: Please check the current trail status. \nWinter Market & Tree Lot: 11:30 am – 10:00 pm \nWinter Trail: 5:30 pm – 10:00 pm
URL:https://center.whitewater.org/event/hours-of-operation-12-18-2024/
END:VEVENT
BEGIN:VEVENT
DTSTART;VALUE=DATE:20241217
DTEND;VALUE=DATE:20241218
DTSTAMP:20260425T081023
CREATED:20241204T214140Z
LAST-MODIFIED:20241209T151019Z
UID:65321-1734393600-1734479999@center.whitewater.org
SUMMARY:Hours of Operation
DESCRIPTION:Pass activities: 12:00 pm – 10:00 pm \nTrail Center – Food & Beverage: 12:00 pm – 10:00 pm \nRiver’s Edge: Closed \nOff Leash: 9:00 am – 7:00 pm \nOutfitters: 9:00 am – 8:00 pm \nWildwoods: 11:00 am – 8:00 pm \nTrails: Please check the current trail status. \nWinter Market & Tree Lot: 11:30 am – 10:00 pm \nWinter Trail: 5:30 pm – 10:00 pm
URL:https://center.whitewater.org/event/hours-of-operation-12-17-2024/
END:VEVENT
BEGIN:VEVENT
DTSTART;VALUE=DATE:20241216
DTEND;VALUE=DATE:20241217
DTSTAMP:20260425T081023
CREATED:20241204T214139Z
LAST-MODIFIED:20241216T141840Z
UID:65320-1734307200-1734393599@center.whitewater.org
SUMMARY:Hours of Operation
DESCRIPTION:Pass activities: 12:00 pm – 10:00 pm \nTrail Center – Food & Beverage: 12:00 pm – 10:00 pm \nRiver’s Edge: Closed \nOff Leash: 9:00 am – 7:00 pm \nOutfitters: 9:00 am – 8:00 pm \nWildwoods: 12:00 pm – 8:00 pm \nTrails: Please check the current trail status. \nWinter Market & Tree Lot: 11:30 am – 10:00 pm \nWinter Trail: 5:30 pm – 10:00 pm
URL:https://center.whitewater.org/event/hours-of-operation-12-16-2024/
END:VEVENT
BEGIN:VEVENT
DTSTART;VALUE=DATE:20241215
DTEND;VALUE=DATE:20241216
DTSTAMP:20260425T081023
CREATED:20241202T181106Z
LAST-MODIFIED:20241209T150123Z
UID:65267-1734220800-1734307199@center.whitewater.org
SUMMARY:Hours of Operation
DESCRIPTION:Pass activities: 10:00 am – 10:00 pm \nTrail Center – Food & Beverage: 10:00 am – 10:00 pm \nRiver’s Edge: 11:00 am – 7:00 pm \nOff Leash: 9:00 am – 7:00 pm \nOutfitters: 9:00 am – 8:00 pm \nWildwoods: 10:00 am – 8:00 pm \nTrails: Please check the current trail status. \nWinter Market & Tree Lot: 10:00 am – 10:00 pm \nWinter Trail: 5:30 pm – 10:00 pm
URL:https://center.whitewater.org/event/hours-of-operation-12-15-2024/
END:VEVENT
BEGIN:VEVENT
DTSTART;TZID=America/Halifax:20241214T130000
DTEND;TZID=America/Halifax:20241214T180000
DTSTAMP:20260425T081023
CREATED:20241120T192324Z
LAST-MODIFIED:20241120T192530Z
UID:65146-1734181200-1734199200@center.whitewater.org
SUMMARY:'Tis the Season at Wildwoods
DESCRIPTION:
URL:https://center.whitewater.org/event/wildwoods-tis-the-season/
END:VEVENT
BEGIN:VEVENT
DTSTART;VALUE=DATE:20241214
DTEND;VALUE=DATE:20241215
DTSTAMP:20260425T081023
CREATED:20241202T181106Z
LAST-MODIFIED:20241209T150123Z
UID:65266-1734134400-1734220799@center.whitewater.org
SUMMARY:Hours of Operation
DESCRIPTION:Pass activities: 10:00 am – 11:00 pm \nTrail Center – Food & Beverage: 10:00 am – 11:00 pm \nRiver’s Edge: 11:00 am – 8:00 pm \nOff Leash: 9:00 am – 8:00 pm \nOutfitters: 9:00 am – 8:00 pm \nWildwoods: 10:00 am – 10:00 pm \nTrails: Please check the current trail status. \nWinter Market & Tree Lot: 10:00 am – 10:00 pm \nWinter Trail: 5:30 pm – 11:00 pm
URL:https://center.whitewater.org/event/hours-of-operation-12-14-2024/
END:VEVENT
BEGIN:VEVENT
DTSTART;VALUE=DATE:20241213
DTEND;VALUE=DATE:20241214
DTSTAMP:20260425T081023
CREATED:20241202T181106Z
LAST-MODIFIED:20241209T150122Z
UID:65265-1734048000-1734134399@center.whitewater.org
SUMMARY:Hours of Operation
DESCRIPTION:Pass activities: 11:00 am – 11:00 pm \nTrail Center – Food & Beverage: 11:00 am – 11:00 pm \nRiver’s Edge: 11:30 am – 8:00 pm \nOff Leash: 9:00 am – 8:00 pm \nOutfitters: 9:00 am – 8:00 pm \nWildwoods: 11:00 am – 9:00 pm \nTrails: Please check the current trail status. \nWinter Market & Tree Lot: 4:00 pm – 10:00 pm \nWinter Trail: 5:30 pm – 11:00 pm
URL:https://center.whitewater.org/event/hours-of-operation-12-13-2024/
END:VEVENT
BEGIN:VEVENT
DTSTART;VALUE=DATE:20241212
DTEND;VALUE=DATE:20241213
DTSTAMP:20260425T081023
CREATED:20241202T181105Z
LAST-MODIFIED:20241213T005707Z
UID:65264-1733961600-1734047999@center.whitewater.org
SUMMARY:Hours of Operation
DESCRIPTION:Pass activities: 11:00 am – 10:00 pm \nTrail Center – Food & Beverage: 11:00 am – 10:00 pm \nRiver’s Edge: 11:30 am – 4:00 pm \nOff Leash: 9:00 am – 7:00 pm \nOutfitters: 9:00 am – 8:00 pm \nWildwoods: 11:00 am – 8:00 pm \nTrails: Please check the current trail status. \nWinter Market & Tree Lot: 4:00 pm – 8:30 pm \nWinter Trail: 5:30 pm – 10:00 pm
URL:https://center.whitewater.org/event/hours-of-operation-12-12-2024/
END:VEVENT
BEGIN:VEVENT
DTSTART;VALUE=DATE:20241211
DTEND;VALUE=DATE:20241212
DTSTAMP:20260425T081023
CREATED:20241202T181105Z
LAST-MODIFIED:20241211T010930Z
UID:65263-1733875200-1733961599@center.whitewater.org
SUMMARY:Hours of Operation
DESCRIPTION:Pass activities: 4:00 pm – 10:00 pm \nTrail Center – Food & Beverage: 4:00 pm – 10:00 pm \nRiver’s Edge: Closed \nOff Leash: Closed \nOutfitters: 9:00 am – 7:00 pm \nWildwoods: Closed \nTrails: Please check the current trail status. \nWinter Market & Tree Lot: 4:00 pm – 10:00 pm \nWinter Trail: 5:30 pm – 10:00 pm
URL:https://center.whitewater.org/event/hours-of-operation-12-11-2024/
END:VEVENT
BEGIN:VEVENT
DTSTART;VALUE=DATE:20241210
DTEND;VALUE=DATE:20241211
DTSTAMP:20260425T081023
CREATED:20241202T181105Z
LAST-MODIFIED:20241210T200723Z
UID:65262-1733788800-1733875199@center.whitewater.org
SUMMARY:Hours of Operation
DESCRIPTION:Pass activities: Closed \nTrail Center – Food & Beverage: Closed \nRiver’s Edge: Closed \nOff Leash: Closed \nOutfitters: Closed \nWildwoods: Closed \nTrails: Please check the current trail status. \nWinter Market & Tree Lot: Closed \nWinter Trail: Closed
URL:https://center.whitewater.org/event/hours-of-operation-12-10-2024/
END:VEVENT
BEGIN:VEVENT
DTSTART;VALUE=DATE:20241209
DTEND;VALUE=DATE:20241210
DTSTAMP:20260425T081023
CREATED:20241202T181104Z
LAST-MODIFIED:20241209T201110Z
UID:65261-1733702400-1733788799@center.whitewater.org
SUMMARY:Hours of Operation
DESCRIPTION:Pass activities: 12:00 pm – 10:00 pm \nTrail Center – Food & Beverage: 11:30 am – 10:00 pm \nRiver’s Edge: Closed \nOff Leash: 9:00 am – 4:00 pm \nOutfitters: 9:00 am – 6:00 pm \nWildwoods: 10:00 am – 3:00 pm \nTrails: Please check the current trail status. \nWinter Market & Tree Lot: 6:00 pm – 10:00 pm \nWinter Trail: 5:30 pm – 10:00 pm
URL:https://center.whitewater.org/event/hours-of-operation-12-09-2024/
END:VEVENT
BEGIN:VEVENT
DTSTART;VALUE=DATE:20241208
DTEND;VALUE=DATE:20241209
DTSTAMP:20260425T081023
CREATED:20241202T181104Z
LAST-MODIFIED:20241208T183018Z
UID:65260-1733616000-1733702399@center.whitewater.org
SUMMARY:Hours of Operation
DESCRIPTION:Pass activities: 10:00 am – 10:00 pm \nTrail Center – Food & Beverage: 10:00 am – 10:00 pm \nRiver’s Edge: 11:00 am – 7:00 pm \nOff Leash: 9:00 am – 7:00 pm \nOutfitters: 9:00 am – 8:00 pm \nWildwoods: 10:00 am – 8:00 pm \nTrails: Please check the current trail status. \nWinter Market & Tree Lot: 10:00 am – 10:00 pm \nWinter Trail: 5:30 pm – 10:00 pm
URL:https://center.whitewater.org/event/hours-of-operation-12-08-2024/
END:VEVENT
BEGIN:VEVENT
DTSTART;TZID=America/Halifax:20241207T090000
DTEND;TZID=America/Halifax:20241207T120000
DTSTAMP:20260425T081023
CREATED:20241008T205653Z
LAST-MODIFIED:20241008T210054Z
UID:64513-1733562000-1733572800@center.whitewater.org
SUMMARY:We Believe Santa 5K Trail Race & Dog Jog
DESCRIPTION:
URL:https://center.whitewater.org/event/we-believe/
CATEGORIES:Whitewater Race Series
END:VEVENT
BEGIN:VEVENT
DTSTART;VALUE=DATE:20241207
DTEND;VALUE=DATE:20241208
DTSTAMP:20260425T081023
CREATED:20241129T214016Z
LAST-MODIFIED:20241129T214016Z
UID:65245-1733529600-1733615999@center.whitewater.org
SUMMARY:Hours of Operation
DESCRIPTION:Pass activities: 10:00 am – 11:00 pm \nTrail Center – Food & Beverage: 10:00 am – 11:00 pm \nRiver’s Edge: 11:00 am – 8:00 pm \nOff Leash: 9:00 am – 10:00 pm \nOutfitters: 9:00 am – 8:00 pm \nWildwoods: 10:00 am – 11:00 pm \nTrails: Please check the current trail status. \nWinter Market & Tree Lot: 10:00 am – 11:00 pm \nWinter Trail: 5:30 pm – 11:00 pm
URL:https://center.whitewater.org/event/hours-of-operation-12-07-2024/
END:VEVENT
BEGIN:VEVENT
DTSTART;VALUE=DATE:20241206
DTEND;VALUE=DATE:20241207
DTSTAMP:20260425T081023
CREATED:20241129T214016Z
LAST-MODIFIED:20241129T214016Z
UID:65244-1733443200-1733529599@center.whitewater.org
SUMMARY:Hours of Operation
DESCRIPTION:Pass activities: 11:00 am – 11:00 pm \nTrail Center – Food & Beverage: 11:00 am – 11:00 pm \nRiver’s Edge: 11:30 am – 8:00 pm \nOff Leash: 9:00 am – 9:00 pm \nOutfitters: 9:00 am – 8:00 pm \nWildwoods: 11:00 am – 11:00 pm \nTrails: Please check the current trail status. \nWinter Market & Tree Lot: 11:00 am – 11:00 pm \nWinter Trail: 5:30 pm – 11:00 pm
URL:https://center.whitewater.org/event/hours-of-operation-12-06-2024/
END:VEVENT
BEGIN:VEVENT
DTSTART;VALUE=DATE:20241205
DTEND;VALUE=DATE:20241206
DTSTAMP:20260425T081023
CREATED:20241129T214015Z
LAST-MODIFIED:20241129T214015Z
UID:65243-1733356800-1733443199@center.whitewater.org
SUMMARY:Hours of Operation
DESCRIPTION:Pass activities: 11:00 am – 10:00 pm \nTrail Center – Food & Beverage: 11:00 am – 10:00 pm \nRiver’s Edge: 11:30 am – 4:00 pm \nOff Leash: 9:00 am – 7:00 pm \nOutfitters: 9:00 am – 8:00 pm \nWildwoods: 11:00 am – 10:00 pm \nTrails: Please check the current trail status. \nWinter Market & Tree Lot: 11:00 am – 10:00 pm \nWinter Trail: 5:30 pm – 10:00 pm
URL:https://center.whitewater.org/event/hours-of-operation-12-05-2024/
END:VEVENT
BEGIN:VEVENT
DTSTART;VALUE=DATE:20241204
DTEND;VALUE=DATE:20241205
DTSTAMP:20260425T081023
CREATED:20241129T214015Z
LAST-MODIFIED:20241204T145123Z
UID:65242-1733270400-1733356799@center.whitewater.org
SUMMARY:Hours of Operation
DESCRIPTION:Pass activities: 11:00 am – 10:00 pm \nTrail Center – Food & Beverage: 12:00 pm – 10:00 pm \nRiver’s Edge: Closed \nOff Leash: 9:00 am – 7:00 pm \nOutfitters: 9:00 am – 8:00 pm \nWildwoods: 11:00 am – 10:00 pm \nTrails: Please check the current trail status. \nWinter Market & Tree Lot: 11:00 am – 10:00 pm \nWinter Trail: 5:00 pm – 10:00 pm
URL:https://center.whitewater.org/event/hours-of-operation-12-04-2024/
END:VEVENT
BEGIN:VEVENT
DTSTART;VALUE=DATE:20241203
DTEND;VALUE=DATE:20241204
DTSTAMP:20260425T081023
CREATED:20241129T214015Z
LAST-MODIFIED:20241129T214015Z
UID:65241-1733184000-1733270399@center.whitewater.org
SUMMARY:Hours of Operation
DESCRIPTION:Pass activities: 11:00 am – 10:00 pm \nTrail Center – Food & Beverage: 11:00 am – 10:00 pm \nRiver’s Edge: 11:30 am – 4:00 pm \nOff Leash: 9:00 am – 7:00 pm \nOutfitters: 9:00 am – 8:00 pm \nWildwoods: 11:00 am – 10:00 pm \nTrails: Please check the current trail status. \nWinter Market & Tree Lot: 11:00 am – 10:00 pm \nWinter Trail: 5:30 pm – 10:00 pm
URL:https://center.whitewater.org/event/hours-of-operation-12-03-2024/
END:VEVENT
BEGIN:VEVENT
DTSTART;VALUE=DATE:20241202
DTEND;VALUE=DATE:20241203
DTSTAMP:20260425T081023
CREATED:20241129T214015Z
LAST-MODIFIED:20241129T214015Z
UID:65240-1733097600-1733183999@center.whitewater.org
SUMMARY:Hours of Operation
DESCRIPTION:Pass activities: 11:00 am – 10:00 pm \nTrail Center – Food & Beverage: 11:00 am – 10:00 pm \nRiver’s Edge: 11:30 am – 4:00 pm \nOff Leash: 9:00 am – 7:00 pm \nOutfitters: 9:00 am – 8:00 pm \nWildwoods: 11:00 am – 10:00 pm \nTrails: Please check the current trail status. \nWinter Market & Tree Lot: 11:00 am – 10:00 pm \nWinter Trail: 5:30 pm – 10:00 pm
URL:https://center.whitewater.org/event/hours-of-operation-12-02-2024/
END:VEVENT
BEGIN:VEVENT
DTSTART;VALUE=DATE:20241201
DTEND;VALUE=DATE:20241202
DTSTAMP:20260425T081023
CREATED:20241129T214014Z
LAST-MODIFIED:20241202T021129Z
UID:65239-1733011200-1733097599@center.whitewater.org
SUMMARY:Hours of Operation
DESCRIPTION:Pass activities: 10:00 am – 10:00 pm \nTrail Center – Food & Beverage: 10:00 am – 10:00 pm \nRiver’s Edge: 11:00 am – 8:00 pm \nOff Leash: 9:00 am – 7:00 pm \nOutfitters: 9:00 am – 8:00 pm \nWildwoods: 10:00 am – 10:00 pm \nTrails: Please check the current trail status. \nWinter Market & Tree Lot: 10:30 am – 9:00 pm \nWinter Trail: 5:00 pm – 10:00 pm
URL:https://center.whitewater.org/event/hours-of-operation-12-01-2024/
END:VEVENT
BEGIN:VEVENT
DTSTART;VALUE=DATE:20241130
DTEND;VALUE=DATE:20241201
DTSTAMP:20260425T081023
CREATED:20241103T190149Z
LAST-MODIFIED:20241122T014501Z
UID:65013-1732924800-1733011199@center.whitewater.org
SUMMARY:Hours of Operation
DESCRIPTION:Pass activities: 10:00 am – 11:00 pm \nTrail Center – Food & Beverage: 10:00 am – 11:00 pm \nRiver’s Edge: 11:00 am – 8:00 pm \nOff Leash: 9:00 am – 10:00 pm \nOutfitters: 9:00 am – 8:00 pm \nWildwoods: 10:00 am – 11:00 pm \nTrails: Please check the current trail status. \nWinter Market & Tree Lot: 10:00 am – 10:00 pm \nWinter Trail: 5:30 pm – 11:00 pm
URL:https://center.whitewater.org/event/hours-of-operation-11-30-2024/
END:VEVENT
BEGIN:VEVENT
DTSTART;VALUE=DATE:20241129
DTEND;VALUE=DATE:20241130
DTSTAMP:20260425T081023
CREATED:20241103T190148Z
LAST-MODIFIED:20241122T014501Z
UID:65012-1732838400-1732924799@center.whitewater.org
SUMMARY:Hours of Operation
DESCRIPTION:Pass activities: 10:00 am – 11:00 pm \nTrail Center – Food & Beverage: 10:00 am – 11:00 pm \nRiver’s Edge: 11:00 am – 8:00 pm \nOff Leash: 9:00 am – 10:00 pm \nOutfitters: 9:00 am – 8:00 pm \nWildwoods: 10:00 am – 11:00 pm \nTrails: Please check the current trail status. \nWinter Market & Tree Lot: 10:00 am – 10:00 pm \nWinter Trail: 5:30 pm – 11:00 pm
URL:https://center.whitewater.org/event/hours-of-operation-11-29-2024/
END:VEVENT
BEGIN:VEVENT
DTSTART;VALUE=DATE:20241128
DTEND;VALUE=DATE:20241129
DTSTAMP:20260425T081023
CREATED:20241103T190148Z
LAST-MODIFIED:20241122T014500Z
UID:65011-1732752000-1732838399@center.whitewater.org
SUMMARY:Hours of Operation
DESCRIPTION:Pass activities: 4:00 pm – 10:00 pm \nTrail Center – Food & Beverage: 4:00 pm – 10:00 pm \nRiver’s Edge: Closed \nOff Leash: 4:00 pm – 9:00 pm \nOutfitters: 3:00 pm – 8:00 pm \nWildwoods: 4:00 pm – 10:00 pm \nTrails: Please check the current trail status. \nWinter Market & Tree Lot: 4:00 pm – 10:00 pm \nWinter Trail: 5:30 pm – 10:00 pm
URL:https://center.whitewater.org/event/hours-of-operation-11-28-2024/
END:VEVENT
BEGIN:VEVENT
DTSTART;VALUE=DATE:20241127
DTEND;VALUE=DATE:20241128
DTSTAMP:20260425T081023
CREATED:20241103T190148Z
LAST-MODIFIED:20241127T195458Z
UID:65010-1732665600-1732751999@center.whitewater.org
SUMMARY:Hours of Operation
DESCRIPTION:Pass activities: 10:00 am – 11:00 pm \nTrail Center – Food & Beverage: 11:00 am – 11:00 pm \nRiver’s Edge: 11:30 am – 8:00 pm \nOff Leash: 9:00 am – 8:00 pm \nOutfitters: 9:00 am – 8:00 pm \nWildwoods: 10:00 am – 11:00 pm \nTrails: Please check the current trail status. \nWinter Market & Tree Lot: 10:00 am – 10:00 pm \nWinter Trail: 5:30 pm – 10:00 pm
URL:https://center.whitewater.org/event/hours-of-operation-11-27-2024/
END:VEVENT
BEGIN:VEVENT
DTSTART;VALUE=DATE:20241126
DTEND;VALUE=DATE:20241127
DTSTAMP:20260425T081023
CREATED:20241103T190148Z
LAST-MODIFIED:20241122T014500Z
UID:65009-1732579200-1732665599@center.whitewater.org
SUMMARY:Hours of Operation
DESCRIPTION:Pass activities: 10:00 am – 10:00 pm \nTrail Center – Food & Beverage: 11:00 am – 10:00 pm \nRiver’s Edge: 11:30 am – 4:00 pm \nOff Leash: 9:00 am – 8:00 pm \nOutfitters: 9:00 am – 8:00 pm \nWildwoods: 10:00 am – 10:00 pm \nTrails: Please check the current trail status. \nWinter Market & Tree Lot: 4:00 pm – 9:30 pm \nWinter Trail: 5:30 pm – 10:00 pm
URL:https://center.whitewater.org/event/hours-of-operation-11-26-2024/
END:VEVENT
BEGIN:VEVENT
DTSTART;VALUE=DATE:20241125
DTEND;VALUE=DATE:20241126
DTSTAMP:20260425T081023
CREATED:20241103T190147Z
LAST-MODIFIED:20241126T011452Z
UID:65008-1732492800-1732579199@center.whitewater.org
SUMMARY:Hours of Operation
DESCRIPTION:Pass activities: 11:00 am – 10:00 pm \nTrail Center – Food & Beverage: 11:00 am – 10:00 pm \nRiver’s Edge: 11:30 am – 4:00 pm \nOff Leash: 9:00 am – 8:00 pm \nOutfitters: 9:00 am – 8:00 pm \nWildwoods: 11:00 am – 10:00 pm \nTrails: Please check the current trail status. \nWinter Market & Tree Lot: 4:00 pm – 8:30 pm \nWinter Trail: 5:30 pm – 10:00 pm
URL:https://center.whitewater.org/event/hours-of-operation-11-25-2024/
END:VEVENT
BEGIN:VEVENT
DTSTART;VALUE=DATE:20241124
DTEND;VALUE=DATE:20241125
DTSTAMP:20260425T081023
CREATED:20241103T190147Z
LAST-MODIFIED:20241122T014500Z
UID:65007-1732406400-1732492799@center.whitewater.org
SUMMARY:Hours of Operation
DESCRIPTION:Pass activities: 10:00 am – 10:00 pm \nTrail Center – Food & Beverage: 10:00 am – 10:00 pm \nRiver’s Edge: 11:00 am – 7:00 pm \nOff Leash: 9:00 am – 8:00 pm \nOutfitters: 9:00 am – 8:00 pm \nWildwoods: 10:00 am – 10:00 pm \nTrails: Please check the current trail status. \nWinter Market & Tree Lot: 10:00 am – 9:30 pm \nWinter Trail: 5:30 pm – 10:00 pm
URL:https://center.whitewater.org/event/hours-of-operation-11-24-2024/
END:VEVENT
BEGIN:VEVENT
DTSTART;VALUE=DATE:20241123
DTEND;VALUE=DATE:20241124
DTSTAMP:20260425T081023
CREATED:20241103T190147Z
LAST-MODIFIED:20241122T014459Z
UID:65006-1732320000-1732406399@center.whitewater.org
SUMMARY:Hours of Operation
DESCRIPTION:Pass activities: 10:00 am – 10:00 pm \nTrail Center – Food & Beverage: 10:00 am – 10:00 pm \nRiver’s Edge: 11:00 am – 8:00 pm \nOff Leash: 9:00 am – 10:00 pm \nOutfitters: 9:00 am – 8:00 pm \nWildwoods: 9:00 am – 10:00 pm \nTrails: Please check the current trail status. \nWinter Market & Tree Lot: 10:00 am – 9:30 pm \nWinter Trail: 5:30 pm – 10:00 pm
URL:https://center.whitewater.org/event/hours-of-operation-11-23-2024/
END:VEVENT
BEGIN:VEVENT
DTSTART;VALUE=DATE:20241122
DTEND;VALUE=DATE:20241123
DTSTAMP:20260425T081023
CREATED:20241103T190147Z
LAST-MODIFIED:20241122T014459Z
UID:65005-1732233600-1732319999@center.whitewater.org
SUMMARY:Hours of Operation
DESCRIPTION:Pass activities: 11:00 am – 10:00 pm \nTrail Center – Food & Beverage: 11:00 am – 10:00 pm \nRiver’s Edge: 11:30 am – 8:00 pm \nOff Leash: 9:00 am – 10:00 pm \nOutfitters: 9:00 am – 8:00 pm \nWildwoods: 9:00 am – 10:00 pm \nTrails: Please check the current trail status. \nWinter Market & Tree Lot: 4:00 pm – 10:00 pm \nWinter Trail: 5:30 pm – 10:00 pm
URL:https://center.whitewater.org/event/hours-of-operation-11-22-2024/
END:VEVENT
BEGIN:VEVENT
DTSTART;VALUE=DATE:20241121
DTEND;VALUE=DATE:20241122
DTSTAMP:20260425T081023
CREATED:20241103T190147Z
LAST-MODIFIED:20241121T233635Z
UID:65004-1732147200-1732233599@center.whitewater.org
SUMMARY:Hours of Operation
DESCRIPTION:Pass activities: 11:00 am – 10:00 pm \nTrail Center – Food & Beverage: 11:00 am – 10:00 pm \nRiver’s Edge: 11:30 am – 4:00 pm \nOff Leash: Closed \nOutfitters: 9:00 am – 8:00 pm \nWildwoods: 10:00 am – 10:00 pm \nTrails: Please check the current trail status. \nWinter Market & Tree Lot: 12:00 pm – 7:00 pm \nWinter Trail: 5:30 pm – 10:00 pm
URL:https://center.whitewater.org/event/hours-of-operation-11-21-2024/
END:VEVENT
END:VCALENDAR