

BEGIN:VCALENDAR
VERSION:2.0
PRODID:-//Whitewater Center - ECPv6.7.0//NONSGML v1.0//EN
CALSCALE:GREGORIAN
METHOD:PUBLISH
X-WR-CALNAME:Whitewater Center
X-ORIGINAL-URL:https://center.whitewater.org
X-WR-CALDESC:Events for Whitewater Center
REFRESH-INTERVAL;VALUE=DURATION:PT1H
X-Robots-Tag:noindex
X-PUBLISHED-TTL:PT1H
BEGIN:VTIMEZONE
TZID:America/New_York
BEGIN:DAYLIGHT
TZOFFSETFROM:-0500
TZOFFSETTO:-0400
TZNAME:EDT
DTSTART:20240310T070000
END:DAYLIGHT
BEGIN:STANDARD
TZOFFSETFROM:-0400
TZOFFSETTO:-0500
TZNAME:EST
DTSTART:20241103T060000
END:STANDARD
TZID:America/Halifax
BEGIN:DAYLIGHT
TZOFFSETFROM:-0400
TZOFFSETTO:-0300
TZNAME:ADT
DTSTART:20240310T060000
END:DAYLIGHT
BEGIN:STANDARD
TZOFFSETFROM:-0300
TZOFFSETTO:-0400
TZNAME:AST
DTSTART:20241103T050000
END:STANDARD
END:VTIMEZONE
BEGIN:VEVENT
DTSTART;VALUE=DATE:20241112
DTEND;VALUE=DATE:20241113
DTSTAMP:20260423T142037
CREATED:20241030T195743Z
LAST-MODIFIED:20241112T131748Z
UID:64952-1731369600-1731455999@center.whitewater.org
SUMMARY:Hours of Operation
DESCRIPTION:Pass activities: Closed \nTrail Center – Food & Beverage: Closed \nWater Release: Closed \nPump House Biergarten: Closed \nRiver’s Edge: Closed \nThe Market: 11:00 am – 4:00 pm \nOff Leash: 12:00 pm – 6:30 pm \nOutfitters: 9:00 am – 6:00 pm \nWildwoods: 10:00 am – 5:00 pm \nTrails: Please check the current trail status.
URL:https://center.whitewater.org/event/hours-of-operation-11-12-2024/
END:VEVENT
BEGIN:VEVENT
DTSTART;VALUE=DATE:20241111
DTEND;VALUE=DATE:20241112
DTSTAMP:20260423T142037
CREATED:20241030T195743Z
LAST-MODIFIED:20241111T213202Z
UID:64951-1731283200-1731369599@center.whitewater.org
SUMMARY:Hours of Operation
DESCRIPTION:Pass activities: 10:00 am – 5:00 pm \nTrail Center – Food & Beverage: Closed \nWater Release: Closed \nPump House Biergarten: Closed \nRiver’s Edge: 11:30 am – 6:00 pm \nThe Market: 11:00 am – 4:00 pm \nOff Leash: 12:00 pm – 6:30 pm \nOutfitters: 9:00 am – 6:00 pm \nWildwoods: 10:00 am – 5:00 pm \nTrails: Please check the current trail status.
URL:https://center.whitewater.org/event/hours-of-operation-11-11-2024/
END:VEVENT
BEGIN:VEVENT
DTSTART;VALUE=DATE:20241110
DTEND;VALUE=DATE:20241111
DTSTAMP:20260423T142037
CREATED:20241030T195743Z
LAST-MODIFIED:20241108T134800Z
UID:64950-1731196800-1731283199@center.whitewater.org
SUMMARY:Hours of Operation
DESCRIPTION:Pass activities: 10:00 am – 5:00 pm \nTrail Center – Food & Beverage: Closed \nWater Release: Closed \nPump House Biergarten: Closed \nRiver’s Edge: 11:00 am – 6:00 pm \nThe Market: 11:00 am – 5:00 pm \nOff Leash: 9:00 am – 6:30 pm \nOutfitters: 9:00 am – 6:00 pm \nWildwoods: 10:00 am – 5:00 pm \nTrails: Please check the current trail status.
URL:https://center.whitewater.org/event/hours-of-operation-11-10-2024/
END:VEVENT
BEGIN:VEVENT
DTSTART;VALUE=DATE:20241109
DTEND;VALUE=DATE:20241110
DTSTAMP:20260423T142037
CREATED:20241030T195742Z
LAST-MODIFIED:20241108T134759Z
UID:64949-1731110400-1731196799@center.whitewater.org
SUMMARY:Hours of Operation
DESCRIPTION:Pass activities: 11:00 am – 5:00 pm \nTrail Center – Food & Beverage: Closed \nWater Release: Closed \nPump House Biergarten: Closed \nRiver’s Edge: 11:00 am – 6:00 pm \nThe Market: 11:00 am – 4:00 pm \nOff Leash: 9:00 am – 6:30 pm \nOutfitters: 9:00 am – 6:00 pm \nWildwoods: 11:00 am – 5:00 pm \nTrails: Please check the current trail status.
URL:https://center.whitewater.org/event/hours-of-operation-11-09-2024/
END:VEVENT
BEGIN:VEVENT
DTSTART;VALUE=DATE:20241108
DTEND;VALUE=DATE:20241109
DTSTAMP:20260423T142037
CREATED:20241030T195742Z
LAST-MODIFIED:20241108T134759Z
UID:64948-1731024000-1731110399@center.whitewater.org
SUMMARY:Hours of Operation
DESCRIPTION:Pass activities: 11:00 am – 5:00 pm \nTrail Center – Food & Beverage: Closed \nWater Release: Closed \nPump House Biergarten: Closed \nRiver’s Edge: 11:00 am – 6:00 pm \nThe Market: 11:00 am – 4:00 pm \nOff Leash: 9:00 am – 6:30 pm \nOutfitters: 9:00 am – 6:00 pm \nWildwoods: 11:00 am – 5:00 pm \nTrails: Please check the current trail status.
URL:https://center.whitewater.org/event/hours-of-operation-11-08-2024/
END:VEVENT
BEGIN:VEVENT
DTSTART;VALUE=DATE:20241107
DTEND;VALUE=DATE:20241108
DTSTAMP:20260423T142037
CREATED:20241030T195742Z
LAST-MODIFIED:20241107T190134Z
UID:64947-1730937600-1731023999@center.whitewater.org
SUMMARY:Hours of Operation
DESCRIPTION:Pass activities: 11:00 am – 6:00 pm \nTrail Center – Food & Beverage: Closed \nWater Release: Closed \nPump House Biergarten: Closed \nRiver’s Edge: Closed \nThe Market: 11:00 am – 4:00 pm \nOff Leash: Closed \nOutfitters: 9:00 am – 6:00 pm \nWildwoods: 10:00 am – 5:00 pm \nTrails: Please check the current trail status.
URL:https://center.whitewater.org/event/hours-of-operation-11-07-2024/
END:VEVENT
BEGIN:VEVENT
DTSTART;VALUE=DATE:20241106
DTEND;VALUE=DATE:20241107
DTSTAMP:20260423T142037
CREATED:20241030T195742Z
LAST-MODIFIED:20241030T195742Z
UID:64946-1730851200-1730937599@center.whitewater.org
SUMMARY:Hours of Operation
DESCRIPTION:Pass activities: 10:00 am – 5:00 pm \nTrail Center – Food & Beverage: Closed \nWater Release: Closed \nPump House Biergarten: Closed \nRiver’s Edge: 11:30 am – 6:00 pm \nThe Market: 11:00 am – 4:00 pm \nOff Leash: Closed \nOutfitters: 9:00 am – 6:00 pm \nWildwoods: 10:00 am – 5:00 pm \nTrails: Please check the current trail status.
URL:https://center.whitewater.org/event/hours-of-operation-11-06-2024/
END:VEVENT
BEGIN:VEVENT
DTSTART;VALUE=DATE:20241105
DTEND;VALUE=DATE:20241106
DTSTAMP:20260423T142037
CREATED:20241030T184841Z
LAST-MODIFIED:20241104T132954Z
UID:64942-1730764800-1730851199@center.whitewater.org
SUMMARY:Hours of Operation
DESCRIPTION:Pass activities: 10:00 am – 5:00 pm \nTrail Center – Food & Beverage: Closed \nWater Release: Closed \nPump House Biergarten: Closed \nRiver’s Edge: 11:30 am – 6:00 pm \nThe Market: 11:00 am – 4:00 pm \nOff Leash: Closed \nOutfitters: 9:00 am – 6:00 pm \nWildwoods: 10:00 am – 5:00 pm \nTrails: Please check the current trail status.
URL:https://center.whitewater.org/event/hours-of-operation-11-05-2024/
END:VEVENT
BEGIN:VEVENT
DTSTART;VALUE=DATE:20241104
DTEND;VALUE=DATE:20241105
DTSTAMP:20260423T142037
CREATED:20241031T130528Z
LAST-MODIFIED:20241104T132712Z
UID:64959-1730678400-1730764799@center.whitewater.org
SUMMARY:Hours of Operation
DESCRIPTION:Pass activities: 10:00 am – 6:00 pm \nTrail Center – Food & Beverage: Closed \nWater Release: Closed \nPump House Biergarten: Closed \nRiver’s Edge: 11:30 am – 6:00 pm \nThe Market: 11:00 am – 4:00 pm \nOff Leash: 9:00 am – 6:30 pm \nOutfitters: 9:00 am – 6:00 pm \nWildwoods: 10:00 am – 5:00 pm \nTrails: Please check the current trail status.
URL:https://center.whitewater.org/event/hours-of-operation-11-04-2024/
END:VEVENT
BEGIN:VEVENT
DTSTART;TZID=America/Halifax:20241103T113000
DTEND;TZID=America/Halifax:20241103T123000
DTSTAMP:20260423T142037
CREATED:20241101T143134Z
LAST-MODIFIED:20241101T143244Z
UID:64985-1730633400-1730637000@center.whitewater.org
SUMMARY:Pop Up Yoga
DESCRIPTION:Pop Up Yoga is offered on select Saturdays and Sundays all winter long. \nWhen the weather outlooks looks good for the weekend\, Whitewater will confirm its class schedule a few days ahead of the weekend. \nSee the Yoga Activity Page for more information.
URL:https://center.whitewater.org/event/pop-up-yoga-sun/
END:VEVENT
BEGIN:VEVENT
DTSTART;VALUE=DATE:20241103
DTEND;VALUE=DATE:20241104
DTSTAMP:20260423T142037
CREATED:20241031T130527Z
LAST-MODIFIED:20241103T190416Z
UID:64958-1730592000-1730678399@center.whitewater.org
SUMMARY:Hours of Operation
DESCRIPTION:Pass activities: 10:00 am – 5:00 pm \nTrail Center – Food & Beverage: Closed \nWater Release: Closed \nPump House Biergarten: Closed \nRiver’s Edge: 11:30 am – 6:00 pm \nThe Market: 10:00 am – 5:00 pm \nOff Leash: 9:00 am – 6:30 pm \nOutfitters: 9:00 am – 6:00 pm \nWildwoods: 10:00 am – 5:00 pm \nTrails: Please check the current trail status.
URL:https://center.whitewater.org/event/hours-of-operation-11-03-2024/
END:VEVENT
BEGIN:VEVENT
DTSTART;TZID=America/Halifax:20241102T113000
DTEND;TZID=America/Halifax:20241102T123000
DTSTAMP:20260423T142037
CREATED:20241101T143120Z
LAST-MODIFIED:20241101T143318Z
UID:64984-1730547000-1730550600@center.whitewater.org
SUMMARY:Pop Up Yoga
DESCRIPTION:Pop Up Yoga is offered on select Saturdays and Sundays all winter long. \nWhen the weather outlooks looks good for the weekend\, Whitewater will confirm its class schedule a few days ahead of the weekend. \nSee the Yoga Activity Page for more information.
URL:https://center.whitewater.org/event/pop-up-yoga/
END:VEVENT
BEGIN:VEVENT
DTSTART;VALUE=DATE:20241102
DTEND;VALUE=DATE:20241103
DTSTAMP:20260423T142037
CREATED:20241031T130527Z
LAST-MODIFIED:20241031T130527Z
UID:64957-1730505600-1730591999@center.whitewater.org
SUMMARY:Hours of Operation
DESCRIPTION:Pass activities: 10:00 am – 5:00 pm \nTrail Center – Food & Beverage: Closed \nWater Release: Closed \nPump House Biergarten: Closed \nRiver’s Edge: 11:30 am – 6:00 pm \nThe Market: 11:00 am – 5:00 pm \nOff Leash: 9:00 am – 7:30 pm \nOutfitters: 9:00 am – 6:00 pm \nWildwoods: 10:00 am – 5:00 pm \nTrails: Please check the current trail status.
URL:https://center.whitewater.org/event/hours-of-operation-11-02-2024/
END:VEVENT
BEGIN:VEVENT
DTSTART;VALUE=DATE:20241101
DTEND;VALUE=DATE:20241102
DTSTAMP:20260423T142037
CREATED:20241031T130527Z
LAST-MODIFIED:20241031T130527Z
UID:64956-1730419200-1730505599@center.whitewater.org
SUMMARY:Hours of Operation
DESCRIPTION:Pass activities: 10:00 am – 5:00 pm \nTrail Center – Food & Beverage: Closed \nWater Release: Closed \nPump House Biergarten: Closed \nRiver’s Edge: 11:30 am – 6:00 pm \nThe Market: 11:00 am – 4:00 pm \nOff Leash: 9:00 am – 7:30 pm \nOutfitters: 9:00 am – 6:00 pm \nWildwoods: 10:00 am – 5:00 pm \nTrails: Please check the current trail status.
URL:https://center.whitewater.org/event/hours-of-operation-11-01-2024/
END:VEVENT
BEGIN:VEVENT
DTSTART;VALUE=DATE:20241031
DTEND;VALUE=DATE:20241101
DTSTAMP:20260423T142037
CREATED:20240923T214715Z
LAST-MODIFIED:20241028T172043Z
UID:64205-1730332800-1730419199@center.whitewater.org
SUMMARY:Hours of Operation
DESCRIPTION:Pass activities: 10:00 am – 5:00 pm \nTrail Center – Food & Beverage: Closed \nWater Release: Closed \nPump House Biergarten: Closed \nRiver’s Edge: Closed \nThe Market: 11:00 am – 5:00 pm \nOff Leash: 9:00 am – 7:30 pm \nOutfitters: 9:00 am – 7:00 pm \nWildwoods: 10:00 am – 5:00 pm \nTrails: Please check the current trail status.
URL:https://center.whitewater.org/event/hours-of-operation-10-31-2024/
END:VEVENT
BEGIN:VEVENT
DTSTART;VALUE=DATE:20241030
DTEND;VALUE=DATE:20241031
DTSTAMP:20260423T142037
CREATED:20240923T214715Z
LAST-MODIFIED:20241028T172043Z
UID:64204-1730246400-1730332799@center.whitewater.org
SUMMARY:Hours of Operation
DESCRIPTION:Pass activities: 10:00 am – 5:00 pm \nTrail Center – Food & Beverage: Closed \nWater Release: Closed \nPump House Biergarten: Closed \nRiver’s Edge: 11:30 am – 6:00 pm \nThe Market: 11:00 am – 4:00 pm \nOff Leash: 9:00 am – 7:30 pm \nOutfitters: 9:00 am – 7:00 pm \nWildwoods: 10:00 am – 5:00 pm \nTrails: Please check the current trail status.
URL:https://center.whitewater.org/event/hours-of-operation-10-30-2024/
END:VEVENT
BEGIN:VEVENT
DTSTART;VALUE=DATE:20241029
DTEND;VALUE=DATE:20241030
DTSTAMP:20260423T142037
CREATED:20240923T214715Z
LAST-MODIFIED:20241029T130647Z
UID:64203-1730160000-1730246399@center.whitewater.org
SUMMARY:Hours of Operation
DESCRIPTION:Pass activities: 11:00 am – 5:00 pm \nTrail Center – Food & Beverage: Closed \nWater Release: Closed \nPump House Biergarten: Closed \nRiver’s Edge: Closed \nThe Market: 10:00 am – 4:00 pm \nOff Leash: 9:00 am – 7:30 pm \nOutfitters: 9:00 am – 4:00 pm \nWildwoods: 10:00 am – 6:00 pm \nTrails: Please check the current trail status.
URL:https://center.whitewater.org/event/hours-of-operation-10-29-2024/
END:VEVENT
BEGIN:VEVENT
DTSTART;VALUE=DATE:20241028
DTEND;VALUE=DATE:20241029
DTSTAMP:20260423T142037
CREATED:20240923T214715Z
LAST-MODIFIED:20241028T172043Z
UID:64202-1730073600-1730159999@center.whitewater.org
SUMMARY:Hours of Operation
DESCRIPTION:Pass activities: 11:00 am – 5:00 pm \nTrail Center – Food & Beverage: Closed \nWater Release: Closed \nPump House Biergarten: Closed \nRiver’s Edge: 11:30 am – 6:00 pm \nThe Market: 11:00 am – 4:00 pm \nOff Leash: 9:00 am – 7:30 pm \nOutfitters: 10:00 am – 6:00 pm \nWildwoods: 11:00 am – 5:00 pm \nTrails: Please check the current trail status.
URL:https://center.whitewater.org/event/hours-of-operation-10-28-2024/
END:VEVENT
BEGIN:VEVENT
DTSTART;VALUE=DATE:20241027
DTEND;VALUE=DATE:20241028
DTSTAMP:20260423T142037
CREATED:20240923T214714Z
LAST-MODIFIED:20241022T221653Z
UID:64201-1729987200-1730073599@center.whitewater.org
SUMMARY:Hours of Operation
DESCRIPTION:Pass activities: 10:00 am – 6:00 pm \nTrail Center – Food & Beverage: 11:00 am – 6:00 pm \nWater Release: 11:30 am – 5:30 pm \nPump House Biergarten: 11:30 am – 5:00 pm \nRiver’s Edge: 11:00 am – 7:00 pm \nThe Market: 10:00 am – 5:00 pm \nOff Leash: 9:00 am – 7:30 pm \nOutfitters: 9:00 am – 7:00 pm \nWildwoods: 10:00 am – 6:00 pm \nTrails: Please check the current trail status.
URL:https://center.whitewater.org/event/hours-of-operation-10-27-2024/
END:VEVENT
BEGIN:VEVENT
DTSTART;TZID=America/Halifax:20241026T183000
DTEND;TZID=America/Halifax:20241026T193000
DTSTAMP:20260423T142037
CREATED:20240611T204651Z
LAST-MODIFIED:20240611T204830Z
UID:63029-1729967400-1729971000@center.whitewater.org
SUMMARY:A Shot In the Dark 5K & 10K Night Trail Race Santee
DESCRIPTION:
URL:https://center.whitewater.org/event/a-shot-in-the-dark-santee/
CATEGORIES:Whitewater Race Series
END:VEVENT
BEGIN:VEVENT
DTSTART;TZID=America/Halifax:20241026T160000
DTEND;TZID=America/Halifax:20241026T200000
DTSTAMP:20260423T142037
CREATED:20241008T200709Z
LAST-MODIFIED:20241008T200847Z
UID:64507-1729958400-1729972800@center.whitewater.org
SUMMARY:Halloween at Wildwoods
DESCRIPTION:Enjoy a Halloween evening at Wildwoods with treats (without the tricks) for all ages.
URL:https://center.whitewater.org/event/halloween-at-wildwoods/
END:VEVENT
BEGIN:VEVENT
DTSTART;VALUE=DATE:20241026
DTEND;VALUE=DATE:20241027
DTSTAMP:20260423T142037
CREATED:20240923T214714Z
LAST-MODIFIED:20241022T221653Z
UID:64200-1729900800-1729987199@center.whitewater.org
SUMMARY:Hours of Operation
DESCRIPTION:Pass activities: 10:00 am – 6:00 pm \nTrail Center – Food & Beverage: 11:00 am – 7:00 pm \nWater Release: 11:30 am – 7:00 pm \nPump House Biergarten: 11:30 am – 7:00 pm \nRiver’s Edge: 11:00 am – 7:00 pm \nThe Market: 10:00 am – 5:00 pm \nOff Leash: 9:00 am – 7:30 pm \nOutfitters: 9:00 am – 7:00 pm \nWildwoods: 10:00 am – 6:00 pm \nTrails: Please check the current trail status.
URL:https://center.whitewater.org/event/hours-of-operation-10-26-2024/
END:VEVENT
BEGIN:VEVENT
DTSTART;TZID=America/Halifax:20241025T183000
DTEND;TZID=America/Halifax:20241025T203000
DTSTAMP:20260423T142037
CREATED:20241014T161707Z
LAST-MODIFIED:20241018T133030Z
UID:64587-1729881000-1729888200@center.whitewater.org
SUMMARY:Film Series: The Forgotten Coast
DESCRIPTION:Join Chris Burkard on this special edition of Film Series that includes a behind-the-scenes slide show from the production of the film and a Q&A session. \nSee the Film Series page for more details.
URL:https://center.whitewater.org/event/film-series-2/
END:VEVENT
BEGIN:VEVENT
DTSTART;VALUE=DATE:20241025
DTEND;VALUE=DATE:20241026
DTSTAMP:20260423T142037
CREATED:20240923T214714Z
LAST-MODIFIED:20241022T221653Z
UID:64199-1729814400-1729900799@center.whitewater.org
SUMMARY:Hours of Operation
DESCRIPTION:Pass activities: 10:00 am – 6:00 pm \nTrail Center – Food & Beverage: 11:00 am – 6:00 pm \nWater Release: 11:30 am – 5:30 pm \nPump House Biergarten: 5:00 pm – 9:00 pm \nRiver’s Edge: 11:30 am – 8:00 pm \nThe Market: Closed \nOff Leash: 9:00 am – 7:30 pm \nOutfitters: 9:00 am – 7:00 pm \nWildwoods: 10:00 am – 6:00 pm \nTrails: Please check the current trail status.
URL:https://center.whitewater.org/event/hours-of-operation-10-25-2024/
END:VEVENT
BEGIN:VEVENT
DTSTART;VALUE=DATE:20241024
DTEND;VALUE=DATE:20241025
DTSTAMP:20260423T142037
CREATED:20240923T214713Z
LAST-MODIFIED:20241024T121602Z
UID:64198-1729728000-1729814399@center.whitewater.org
SUMMARY:Hours of Operation
DESCRIPTION:Pass activities: 11:00 am – 6:00 pm \nTrail Center – Food & Beverage: 11:00 am – 5:00 pm \nWater Release: Closed \nPump House Biergarten: Closed \nRiver’s Edge: 11:30 am – 6:00 pm \nThe Market: Closed \nOff Leash: 9:00 am – 7:30 pm \nOutfitters: 9:00 am – 7:00 pm \nWildwoods: 11:00 am – 5:00 pm \nTrails: Please check the current trail status.
URL:https://center.whitewater.org/event/hours-of-operation-10-24-2024/
END:VEVENT
BEGIN:VEVENT
DTSTART;VALUE=DATE:20241023
DTEND;VALUE=DATE:20241024
DTSTAMP:20260423T142037
CREATED:20240923T214713Z
LAST-MODIFIED:20241023T172115Z
UID:64197-1729641600-1729727999@center.whitewater.org
SUMMARY:Hours of Operation
DESCRIPTION:Pass activities: 10:00 am – 6:00 pm \nTrail Center – Food & Beverage: 11:00 am – 4:00 pm \nWater Release: 1:00 pm – 5:30 pm \nPump House Biergarten: Closed \nRiver’s Edge: 11:30 am – 5:00 pm \nThe Market: Closed \nOff Leash: 9:00 am – 7:30 pm \nOutfitters: 9:00 am – 7:00 pm \nWildwoods: Closed \nTrails: Please check the current trail status.
URL:https://center.whitewater.org/event/hours-of-operation-10-23-2024/
END:VEVENT
BEGIN:VEVENT
DTSTART;VALUE=DATE:20241022
DTEND;VALUE=DATE:20241023
DTSTAMP:20260423T142037
CREATED:20240923T214713Z
LAST-MODIFIED:20241022T220816Z
UID:64196-1729555200-1729641599@center.whitewater.org
SUMMARY:Hours of Operation
DESCRIPTION:Pass activities: 10:00 am – 6:00 pm \nTrail Center – Food & Beverage: 11:00 am – 6:00 pm \nWater Release: 11:30 am – 5:30 pm \nPump House Biergarten: Closed \nRiver’s Edge: 11:30 am – 6:00 pm \nThe Market: 10:00 am – 5:00 pm \nOff Leash: 9:00 am – 7:30 pm \nOutfitters: 9:00 am – 7:00 pm \nWildwoods: Closed \nTrails: Please check the current trail status.
URL:https://center.whitewater.org/event/hours-of-operation-10-22-2024/
END:VEVENT
BEGIN:VEVENT
DTSTART;VALUE=DATE:20241021
DTEND;VALUE=DATE:20241022
DTSTAMP:20260423T142037
CREATED:20240923T214713Z
LAST-MODIFIED:20241021T155413Z
UID:64195-1729468800-1729555199@center.whitewater.org
SUMMARY:Hours of Operation
DESCRIPTION:Pass activities: 10:00 am – 6:00 pm \nTrail Center – Food & Beverage: 11:00 am – 7:30 pm \nWater Release: 11:30 am – 4:00 pm \nPump House Biergarten: Closed \nRiver’s Edge: 11:30 am – 8:00 pm \nThe Market: 10:00 am – 5:00 pm \nOff Leash: 9:00 am – 7:30 pm \nOutfitters: 9:00 am – 7:00 pm \nWildwoods: Closed \nTrails: Please check the current trail status.
URL:https://center.whitewater.org/event/hours-of-operation-10-21-2024/
END:VEVENT
BEGIN:VEVENT
DTSTART;VALUE=DATE:20241020
DTEND;VALUE=DATE:20241021
DTSTAMP:20260423T142037
CREATED:20240923T214712Z
LAST-MODIFIED:20241004T175735Z
UID:64194-1729382400-1729468799@center.whitewater.org
SUMMARY:Hours of Operation
DESCRIPTION:Pass activities: 10:00 am – 6:00 pm \nTrail Center – Food & Beverage: 11:00 am – 6:00 pm \nWater Release: 11:30 am – 5:30 pm \nPump House Biergarten: 11:30 am – 5:00 pm \nRiver’s Edge: 11:00 am – 7:00 pm \nThe Market: 10:00 am – 5:00 pm \nOff Leash: 9:00 am – 7:30 pm \nOutfitters: 9:00 am – 7:00 pm \nWildwoods: 10:00 am – 6:00 pm \nTrails: Please check the current trail status.
URL:https://center.whitewater.org/event/hours-of-operation-10-20-2024/
END:VEVENT
BEGIN:VEVENT
DTSTART;TZID=America/Halifax:20241019T070000
DTEND;TZID=America/Halifax:20241019T190000
DTSTAMP:20260423T142037
CREATED:20240729T211828Z
LAST-MODIFIED:20240729T212002Z
UID:63678-1729321200-1729364400@center.whitewater.org
SUMMARY:Vicious Cycle
DESCRIPTION:
URL:https://center.whitewater.org/event/vicious-cycle/
CATEGORIES:Whitewater Race Series
END:VEVENT
END:VCALENDAR