

BEGIN:VCALENDAR
VERSION:2.0
PRODID:-//Whitewater Center - ECPv6.7.0//NONSGML v1.0//EN
CALSCALE:GREGORIAN
METHOD:PUBLISH
X-WR-CALNAME:Whitewater Center
X-ORIGINAL-URL:https://center.whitewater.org
X-WR-CALDESC:Events for Whitewater Center
REFRESH-INTERVAL;VALUE=DURATION:PT1H
X-Robots-Tag:noindex
X-PUBLISHED-TTL:PT1H
BEGIN:VTIMEZONE
TZID:America/New_York
BEGIN:DAYLIGHT
TZOFFSETFROM:-0500
TZOFFSETTO:-0400
TZNAME:EDT
DTSTART:20240310T070000
END:DAYLIGHT
BEGIN:STANDARD
TZOFFSETFROM:-0400
TZOFFSETTO:-0500
TZNAME:EST
DTSTART:20241103T060000
END:STANDARD
TZID:America/Halifax
BEGIN:DAYLIGHT
TZOFFSETFROM:-0400
TZOFFSETTO:-0300
TZNAME:ADT
DTSTART:20240310T060000
END:DAYLIGHT
BEGIN:STANDARD
TZOFFSETFROM:-0300
TZOFFSETTO:-0400
TZNAME:AST
DTSTART:20241103T050000
END:STANDARD
END:VTIMEZONE
BEGIN:VEVENT
DTSTART;VALUE=DATE:20241130
DTEND;VALUE=DATE:20241201
DTSTAMP:20260423T103923
CREATED:20241103T190149Z
LAST-MODIFIED:20241122T014501Z
UID:65013-1732924800-1733011199@center.whitewater.org
SUMMARY:Hours of Operation
DESCRIPTION:Pass activities: 10:00 am – 11:00 pm \nTrail Center – Food & Beverage: 10:00 am – 11:00 pm \nRiver’s Edge: 11:00 am – 8:00 pm \nOff Leash: 9:00 am – 10:00 pm \nOutfitters: 9:00 am – 8:00 pm \nWildwoods: 10:00 am – 11:00 pm \nTrails: Please check the current trail status. \nWinter Market & Tree Lot: 10:00 am – 10:00 pm \nWinter Trail: 5:30 pm – 11:00 pm
URL:https://center.whitewater.org/event/hours-of-operation-11-30-2024/
END:VEVENT
BEGIN:VEVENT
DTSTART;VALUE=DATE:20241129
DTEND;VALUE=DATE:20241130
DTSTAMP:20260423T103923
CREATED:20241103T190148Z
LAST-MODIFIED:20241122T014501Z
UID:65012-1732838400-1732924799@center.whitewater.org
SUMMARY:Hours of Operation
DESCRIPTION:Pass activities: 10:00 am – 11:00 pm \nTrail Center – Food & Beverage: 10:00 am – 11:00 pm \nRiver’s Edge: 11:00 am – 8:00 pm \nOff Leash: 9:00 am – 10:00 pm \nOutfitters: 9:00 am – 8:00 pm \nWildwoods: 10:00 am – 11:00 pm \nTrails: Please check the current trail status. \nWinter Market & Tree Lot: 10:00 am – 10:00 pm \nWinter Trail: 5:30 pm – 11:00 pm
URL:https://center.whitewater.org/event/hours-of-operation-11-29-2024/
END:VEVENT
BEGIN:VEVENT
DTSTART;VALUE=DATE:20241128
DTEND;VALUE=DATE:20241129
DTSTAMP:20260423T103923
CREATED:20241103T190148Z
LAST-MODIFIED:20241122T014500Z
UID:65011-1732752000-1732838399@center.whitewater.org
SUMMARY:Hours of Operation
DESCRIPTION:Pass activities: 4:00 pm – 10:00 pm \nTrail Center – Food & Beverage: 4:00 pm – 10:00 pm \nRiver’s Edge: Closed \nOff Leash: 4:00 pm – 9:00 pm \nOutfitters: 3:00 pm – 8:00 pm \nWildwoods: 4:00 pm – 10:00 pm \nTrails: Please check the current trail status. \nWinter Market & Tree Lot: 4:00 pm – 10:00 pm \nWinter Trail: 5:30 pm – 10:00 pm
URL:https://center.whitewater.org/event/hours-of-operation-11-28-2024/
END:VEVENT
BEGIN:VEVENT
DTSTART;VALUE=DATE:20241127
DTEND;VALUE=DATE:20241128
DTSTAMP:20260423T103923
CREATED:20241103T190148Z
LAST-MODIFIED:20241127T195458Z
UID:65010-1732665600-1732751999@center.whitewater.org
SUMMARY:Hours of Operation
DESCRIPTION:Pass activities: 10:00 am – 11:00 pm \nTrail Center – Food & Beverage: 11:00 am – 11:00 pm \nRiver’s Edge: 11:30 am – 8:00 pm \nOff Leash: 9:00 am – 8:00 pm \nOutfitters: 9:00 am – 8:00 pm \nWildwoods: 10:00 am – 11:00 pm \nTrails: Please check the current trail status. \nWinter Market & Tree Lot: 10:00 am – 10:00 pm \nWinter Trail: 5:30 pm – 10:00 pm
URL:https://center.whitewater.org/event/hours-of-operation-11-27-2024/
END:VEVENT
BEGIN:VEVENT
DTSTART;VALUE=DATE:20241126
DTEND;VALUE=DATE:20241127
DTSTAMP:20260423T103923
CREATED:20241103T190148Z
LAST-MODIFIED:20241122T014500Z
UID:65009-1732579200-1732665599@center.whitewater.org
SUMMARY:Hours of Operation
DESCRIPTION:Pass activities: 10:00 am – 10:00 pm \nTrail Center – Food & Beverage: 11:00 am – 10:00 pm \nRiver’s Edge: 11:30 am – 4:00 pm \nOff Leash: 9:00 am – 8:00 pm \nOutfitters: 9:00 am – 8:00 pm \nWildwoods: 10:00 am – 10:00 pm \nTrails: Please check the current trail status. \nWinter Market & Tree Lot: 4:00 pm – 9:30 pm \nWinter Trail: 5:30 pm – 10:00 pm
URL:https://center.whitewater.org/event/hours-of-operation-11-26-2024/
END:VEVENT
BEGIN:VEVENT
DTSTART;VALUE=DATE:20241125
DTEND;VALUE=DATE:20241126
DTSTAMP:20260423T103923
CREATED:20241103T190147Z
LAST-MODIFIED:20241126T011452Z
UID:65008-1732492800-1732579199@center.whitewater.org
SUMMARY:Hours of Operation
DESCRIPTION:Pass activities: 11:00 am – 10:00 pm \nTrail Center – Food & Beverage: 11:00 am – 10:00 pm \nRiver’s Edge: 11:30 am – 4:00 pm \nOff Leash: 9:00 am – 8:00 pm \nOutfitters: 9:00 am – 8:00 pm \nWildwoods: 11:00 am – 10:00 pm \nTrails: Please check the current trail status. \nWinter Market & Tree Lot: 4:00 pm – 8:30 pm \nWinter Trail: 5:30 pm – 10:00 pm
URL:https://center.whitewater.org/event/hours-of-operation-11-25-2024/
END:VEVENT
BEGIN:VEVENT
DTSTART;VALUE=DATE:20241124
DTEND;VALUE=DATE:20241125
DTSTAMP:20260423T103923
CREATED:20241103T190147Z
LAST-MODIFIED:20241122T014500Z
UID:65007-1732406400-1732492799@center.whitewater.org
SUMMARY:Hours of Operation
DESCRIPTION:Pass activities: 10:00 am – 10:00 pm \nTrail Center – Food & Beverage: 10:00 am – 10:00 pm \nRiver’s Edge: 11:00 am – 7:00 pm \nOff Leash: 9:00 am – 8:00 pm \nOutfitters: 9:00 am – 8:00 pm \nWildwoods: 10:00 am – 10:00 pm \nTrails: Please check the current trail status. \nWinter Market & Tree Lot: 10:00 am – 9:30 pm \nWinter Trail: 5:30 pm – 10:00 pm
URL:https://center.whitewater.org/event/hours-of-operation-11-24-2024/
END:VEVENT
BEGIN:VEVENT
DTSTART;VALUE=DATE:20241123
DTEND;VALUE=DATE:20241124
DTSTAMP:20260423T103923
CREATED:20241103T190147Z
LAST-MODIFIED:20241122T014459Z
UID:65006-1732320000-1732406399@center.whitewater.org
SUMMARY:Hours of Operation
DESCRIPTION:Pass activities: 10:00 am – 10:00 pm \nTrail Center – Food & Beverage: 10:00 am – 10:00 pm \nRiver’s Edge: 11:00 am – 8:00 pm \nOff Leash: 9:00 am – 10:00 pm \nOutfitters: 9:00 am – 8:00 pm \nWildwoods: 9:00 am – 10:00 pm \nTrails: Please check the current trail status. \nWinter Market & Tree Lot: 10:00 am – 9:30 pm \nWinter Trail: 5:30 pm – 10:00 pm
URL:https://center.whitewater.org/event/hours-of-operation-11-23-2024/
END:VEVENT
BEGIN:VEVENT
DTSTART;VALUE=DATE:20241122
DTEND;VALUE=DATE:20241123
DTSTAMP:20260423T103923
CREATED:20241103T190147Z
LAST-MODIFIED:20241122T014459Z
UID:65005-1732233600-1732319999@center.whitewater.org
SUMMARY:Hours of Operation
DESCRIPTION:Pass activities: 11:00 am – 10:00 pm \nTrail Center – Food & Beverage: 11:00 am – 10:00 pm \nRiver’s Edge: 11:30 am – 8:00 pm \nOff Leash: 9:00 am – 10:00 pm \nOutfitters: 9:00 am – 8:00 pm \nWildwoods: 9:00 am – 10:00 pm \nTrails: Please check the current trail status. \nWinter Market & Tree Lot: 4:00 pm – 10:00 pm \nWinter Trail: 5:30 pm – 10:00 pm
URL:https://center.whitewater.org/event/hours-of-operation-11-22-2024/
END:VEVENT
BEGIN:VEVENT
DTSTART;VALUE=DATE:20241121
DTEND;VALUE=DATE:20241122
DTSTAMP:20260423T103923
CREATED:20241103T190147Z
LAST-MODIFIED:20241121T233635Z
UID:65004-1732147200-1732233599@center.whitewater.org
SUMMARY:Hours of Operation
DESCRIPTION:Pass activities: 11:00 am – 10:00 pm \nTrail Center – Food & Beverage: 11:00 am – 10:00 pm \nRiver’s Edge: 11:30 am – 4:00 pm \nOff Leash: Closed \nOutfitters: 9:00 am – 8:00 pm \nWildwoods: 10:00 am – 10:00 pm \nTrails: Please check the current trail status. \nWinter Market & Tree Lot: 12:00 pm – 7:00 pm \nWinter Trail: 5:30 pm – 10:00 pm
URL:https://center.whitewater.org/event/hours-of-operation-11-21-2024/
END:VEVENT
BEGIN:VEVENT
DTSTART;VALUE=DATE:20241120
DTEND;VALUE=DATE:20241121
DTSTAMP:20260423T103923
CREATED:20241103T190146Z
LAST-MODIFIED:20241121T015127Z
UID:65003-1732060800-1732147199@center.whitewater.org
SUMMARY:Hours of Operation
DESCRIPTION:Pass activities: 10:00 am – 6:00 pm \nTrail Center – Food & Beverage: 11:00 am – 7:30 pm \nRiver’s Edge: 11:30 am – 8:00 pm \nOff Leash: 9:00 am – 7:30 pm \nOutfitters: 9:00 am – 7:00 pm \nWildwoods: 10:00 am – 6:00 pm \nTrails: Please check the current trail status. \nWinter Market & Tree Lot: 12:00 am – 12:00 am \nWinter Trail: 12:00 am – 12:00 am
URL:https://center.whitewater.org/event/hours-of-operation-11-20-2024/
END:VEVENT
BEGIN:VEVENT
DTSTART;VALUE=DATE:20241119
DTEND;VALUE=DATE:20241120
DTSTAMP:20260423T103923
CREATED:20241103T190146Z
LAST-MODIFIED:20241118T171548Z
UID:65002-1731974400-1732060799@center.whitewater.org
SUMMARY:Hours of Operation
DESCRIPTION:Pass activities: 11:00 am – 10:00 pm \nTrail Center – Food & Beverage: 11:00 am – 10:00 pm \nRiver’s Edge: 11:30 am – 6:00 pm \nOff Leash: 9:00 am – 8:00 pm \nOutfitters: 9:00 am – 8:00 pm \nWildwoods: 11:00 am – 11:00 pm \nTrails: Please check the current trail status. \nWinter Market & Tree Lot: 10:30 am – 9:30 pm \nWinter Trail: 6:00 pm – 10:00 pm
URL:https://center.whitewater.org/event/hours-of-operation-11-19-2024/
END:VEVENT
BEGIN:VEVENT
DTSTART;VALUE=DATE:20241118
DTEND;VALUE=DATE:20241119
DTSTAMP:20260423T103923
CREATED:20241103T190146Z
LAST-MODIFIED:20241118T171548Z
UID:65001-1731888000-1731974399@center.whitewater.org
SUMMARY:Hours of Operation
DESCRIPTION:Pass activities: 11:00 am – 10:00 pm \nTrail Center – Food & Beverage: 11:00 am – 10:00 pm \nRiver’s Edge: 11:30 am – 6:00 pm \nOff Leash: 9:00 am – 8:00 pm \nOutfitters: 9:00 am – 8:00 pm \nWildwoods: 11:00 am – 10:00 pm \nTrails: Please check the current trail status. \nWinter Market & Tree Lot: 10:30 am – 9:30 pm \nWinter Trail: 6:00 pm – 10:00 pm
URL:https://center.whitewater.org/event/hours-of-operation-11-18-2024/
END:VEVENT
BEGIN:VEVENT
DTSTART;VALUE=DATE:20241117
DTEND;VALUE=DATE:20241118
DTSTAMP:20260423T103923
CREATED:20241103T190146Z
LAST-MODIFIED:20241113T224337Z
UID:65000-1731801600-1731887999@center.whitewater.org
SUMMARY:Hours of Operation
DESCRIPTION:Pass activities: 10:00 am – 10:00 pm \nTrail Center – Food & Beverage: 11:00 am – 10:00 pm \nRiver’s Edge: 11:00 am – 7:00 pm \nOff Leash: 9:00 am – 10:00 pm \nOutfitters: 9:00 am – 8:00 pm \nWildwoods: 10:00 am – 10:00 pm \nTrails: Please check the current trail status. \nWinter Market & Tree Lot: 11:00 am – 10:00 pm \nWinter Trail: 6:00 pm – 10:00 pm
URL:https://center.whitewater.org/event/hours-of-operation-11-17-2024/
END:VEVENT
BEGIN:VEVENT
DTSTART;TZID=America/Halifax:20241116T100000
DTEND;TZID=America/Halifax:20241116T140000
DTSTAMP:20260423T103923
CREATED:20241031T194552Z
LAST-MODIFIED:20241111T143440Z
UID:64979-1731751200-1731765600@center.whitewater.org
SUMMARY:Annual Used Gear Sale
DESCRIPTION:Shop from the tuned-up\, marked-down rental fleet at the Used Bike & Boat Sale. Brands include Specialized\, Giant\, Pyranha\, Dagger\, and more.
URL:https://center.whitewater.org/event/annual-used-gear-sale/
END:VEVENT
BEGIN:VEVENT
DTSTART;VALUE=DATE:20241116
DTEND;VALUE=DATE:20241117
DTSTAMP:20260423T103923
CREATED:20241103T190146Z
LAST-MODIFIED:20241116T205749Z
UID:64999-1731715200-1731801599@center.whitewater.org
SUMMARY:Hours of Operation
DESCRIPTION:Pass activities: 10:00 am – 10:00 pm \nTrail Center – Food & Beverage: 10:00 am – 10:00 pm \nRiver’s Edge: 11:00 am – 8:00 pm \nOff Leash: 9:00 am – 10:00 pm \nOutfitters: 9:00 am – 8:00 pm \nWildwoods: 10:00 am – 10:00 pm \nTrails: Please check the current trail status. \nWinter Market & Tree Lot: 9:30 am – 9:30 pm \nWinter Trail: 6:00 pm – 10:00 pm
URL:https://center.whitewater.org/event/hours-of-operation-11-16-2024/
END:VEVENT
BEGIN:VEVENT
DTSTART;TZID=America/Halifax:20241115T180000
DTEND;TZID=America/Halifax:20241115T203000
DTSTAMP:20260423T103923
CREATED:20230407T200428Z
LAST-MODIFIED:20240611T204619Z
UID:57367-1731693600-1731702600@center.whitewater.org
SUMMARY:A Shot In the Dark 5K & 10K Night Trail Race
DESCRIPTION:
URL:https://center.whitewater.org/event/a-shot-in-the-dark-2/
CATEGORIES:Whitewater Race Series
END:VEVENT
BEGIN:VEVENT
DTSTART;VALUE=DATE:20241115
DTEND;VALUE=DATE:20241116
DTSTAMP:20260423T103923
CREATED:20241103T190145Z
LAST-MODIFIED:20241115T190524Z
UID:64998-1731628800-1731715199@center.whitewater.org
SUMMARY:Hours of Operation
DESCRIPTION:Pass activities: 11:00 am – 10:00 pm \nTrail Center – Food & Beverage: 11:00 am – 11:00 pm \nRiver’s Edge: 11:30 am – 8:00 pm \nOff Leash: 9:00 am – 10:00 pm \nOutfitters: 9:00 am – 7:00 pm \nWildwoods: 11:00 am – 10:00 pm \nTrails: Please check the current trail status. \nWinter Market & Tree Lot: 5:00 pm – 10:00 pm \nWinter Trail: 6:00 pm – 10:00 pm
URL:https://center.whitewater.org/event/hours-of-operation-11-15-2024/
END:VEVENT
BEGIN:VEVENT
DTSTART;VALUE=DATE:20241114
DTEND;VALUE=DATE:20241115
DTSTAMP:20260423T103923
CREATED:20241103T190145Z
LAST-MODIFIED:20241114T201649Z
UID:64997-1731542400-1731628799@center.whitewater.org
SUMMARY:Hours of Operation
DESCRIPTION:Pass activities: Closed \nTrail Center – Food & Beverage: 11:00 am – 8:00 pm \nRiver’s Edge: Closed \nOff Leash: 1:00 pm – 5:00 pm \nOutfitters: 9:00 am – 6:00 pm \nWildwoods: 1:00 pm – 5:00 pm \nTrails: Please check the current trail status. \nWinter Market & Tree Lot: Closed \nWinter Trail: 12:00 am – 12:00 am
URL:https://center.whitewater.org/event/hours-of-operation-11-14-2024/
END:VEVENT
BEGIN:VEVENT
DTSTART;VALUE=DATE:20241113
DTEND;VALUE=DATE:20241114
DTSTAMP:20260423T103923
CREATED:20241103T190145Z
LAST-MODIFIED:20241112T131748Z
UID:64996-1731456000-1731542399@center.whitewater.org
SUMMARY:Hours of Operation
DESCRIPTION:Pass activities: Closed \nTrail Center – Food & Beverage: Closed \nWater Release: Closed \nPump House Biergarten: Closed \nRiver’s Edge: Closed \nThe Market: 11:00 am – 4:00 pm \nOff Leash: 9:00 am – 6:30 pm \nOutfitters: 9:00 am – 6:00 pm \nWildwoods: 10:00 am – 5:00 pm \nTrails: Please check the current trail status.
URL:https://center.whitewater.org/event/hours-of-operation-11-13-2024/
END:VEVENT
BEGIN:VEVENT
DTSTART;VALUE=DATE:20241112
DTEND;VALUE=DATE:20241113
DTSTAMP:20260423T103923
CREATED:20241030T195743Z
LAST-MODIFIED:20241112T131748Z
UID:64952-1731369600-1731455999@center.whitewater.org
SUMMARY:Hours of Operation
DESCRIPTION:Pass activities: Closed \nTrail Center – Food & Beverage: Closed \nWater Release: Closed \nPump House Biergarten: Closed \nRiver’s Edge: Closed \nThe Market: 11:00 am – 4:00 pm \nOff Leash: 12:00 pm – 6:30 pm \nOutfitters: 9:00 am – 6:00 pm \nWildwoods: 10:00 am – 5:00 pm \nTrails: Please check the current trail status.
URL:https://center.whitewater.org/event/hours-of-operation-11-12-2024/
END:VEVENT
BEGIN:VEVENT
DTSTART;VALUE=DATE:20241111
DTEND;VALUE=DATE:20241112
DTSTAMP:20260423T103923
CREATED:20241030T195743Z
LAST-MODIFIED:20241111T213202Z
UID:64951-1731283200-1731369599@center.whitewater.org
SUMMARY:Hours of Operation
DESCRIPTION:Pass activities: 10:00 am – 5:00 pm \nTrail Center – Food & Beverage: Closed \nWater Release: Closed \nPump House Biergarten: Closed \nRiver’s Edge: 11:30 am – 6:00 pm \nThe Market: 11:00 am – 4:00 pm \nOff Leash: 12:00 pm – 6:30 pm \nOutfitters: 9:00 am – 6:00 pm \nWildwoods: 10:00 am – 5:00 pm \nTrails: Please check the current trail status.
URL:https://center.whitewater.org/event/hours-of-operation-11-11-2024/
END:VEVENT
BEGIN:VEVENT
DTSTART;VALUE=DATE:20241110
DTEND;VALUE=DATE:20241111
DTSTAMP:20260423T103923
CREATED:20241030T195743Z
LAST-MODIFIED:20241108T134800Z
UID:64950-1731196800-1731283199@center.whitewater.org
SUMMARY:Hours of Operation
DESCRIPTION:Pass activities: 10:00 am – 5:00 pm \nTrail Center – Food & Beverage: Closed \nWater Release: Closed \nPump House Biergarten: Closed \nRiver’s Edge: 11:00 am – 6:00 pm \nThe Market: 11:00 am – 5:00 pm \nOff Leash: 9:00 am – 6:30 pm \nOutfitters: 9:00 am – 6:00 pm \nWildwoods: 10:00 am – 5:00 pm \nTrails: Please check the current trail status.
URL:https://center.whitewater.org/event/hours-of-operation-11-10-2024/
END:VEVENT
BEGIN:VEVENT
DTSTART;VALUE=DATE:20241109
DTEND;VALUE=DATE:20241110
DTSTAMP:20260423T103923
CREATED:20241030T195742Z
LAST-MODIFIED:20241108T134759Z
UID:64949-1731110400-1731196799@center.whitewater.org
SUMMARY:Hours of Operation
DESCRIPTION:Pass activities: 11:00 am – 5:00 pm \nTrail Center – Food & Beverage: Closed \nWater Release: Closed \nPump House Biergarten: Closed \nRiver’s Edge: 11:00 am – 6:00 pm \nThe Market: 11:00 am – 4:00 pm \nOff Leash: 9:00 am – 6:30 pm \nOutfitters: 9:00 am – 6:00 pm \nWildwoods: 11:00 am – 5:00 pm \nTrails: Please check the current trail status.
URL:https://center.whitewater.org/event/hours-of-operation-11-09-2024/
END:VEVENT
BEGIN:VEVENT
DTSTART;VALUE=DATE:20241108
DTEND;VALUE=DATE:20241109
DTSTAMP:20260423T103923
CREATED:20241030T195742Z
LAST-MODIFIED:20241108T134759Z
UID:64948-1731024000-1731110399@center.whitewater.org
SUMMARY:Hours of Operation
DESCRIPTION:Pass activities: 11:00 am – 5:00 pm \nTrail Center – Food & Beverage: Closed \nWater Release: Closed \nPump House Biergarten: Closed \nRiver’s Edge: 11:00 am – 6:00 pm \nThe Market: 11:00 am – 4:00 pm \nOff Leash: 9:00 am – 6:30 pm \nOutfitters: 9:00 am – 6:00 pm \nWildwoods: 11:00 am – 5:00 pm \nTrails: Please check the current trail status.
URL:https://center.whitewater.org/event/hours-of-operation-11-08-2024/
END:VEVENT
BEGIN:VEVENT
DTSTART;VALUE=DATE:20241107
DTEND;VALUE=DATE:20241108
DTSTAMP:20260423T103923
CREATED:20241030T195742Z
LAST-MODIFIED:20241107T190134Z
UID:64947-1730937600-1731023999@center.whitewater.org
SUMMARY:Hours of Operation
DESCRIPTION:Pass activities: 11:00 am – 6:00 pm \nTrail Center – Food & Beverage: Closed \nWater Release: Closed \nPump House Biergarten: Closed \nRiver’s Edge: Closed \nThe Market: 11:00 am – 4:00 pm \nOff Leash: Closed \nOutfitters: 9:00 am – 6:00 pm \nWildwoods: 10:00 am – 5:00 pm \nTrails: Please check the current trail status.
URL:https://center.whitewater.org/event/hours-of-operation-11-07-2024/
END:VEVENT
BEGIN:VEVENT
DTSTART;VALUE=DATE:20241106
DTEND;VALUE=DATE:20241107
DTSTAMP:20260423T103923
CREATED:20241030T195742Z
LAST-MODIFIED:20241030T195742Z
UID:64946-1730851200-1730937599@center.whitewater.org
SUMMARY:Hours of Operation
DESCRIPTION:Pass activities: 10:00 am – 5:00 pm \nTrail Center – Food & Beverage: Closed \nWater Release: Closed \nPump House Biergarten: Closed \nRiver’s Edge: 11:30 am – 6:00 pm \nThe Market: 11:00 am – 4:00 pm \nOff Leash: Closed \nOutfitters: 9:00 am – 6:00 pm \nWildwoods: 10:00 am – 5:00 pm \nTrails: Please check the current trail status.
URL:https://center.whitewater.org/event/hours-of-operation-11-06-2024/
END:VEVENT
BEGIN:VEVENT
DTSTART;VALUE=DATE:20241105
DTEND;VALUE=DATE:20241106
DTSTAMP:20260423T103923
CREATED:20241030T184841Z
LAST-MODIFIED:20241104T132954Z
UID:64942-1730764800-1730851199@center.whitewater.org
SUMMARY:Hours of Operation
DESCRIPTION:Pass activities: 10:00 am – 5:00 pm \nTrail Center – Food & Beverage: Closed \nWater Release: Closed \nPump House Biergarten: Closed \nRiver’s Edge: 11:30 am – 6:00 pm \nThe Market: 11:00 am – 4:00 pm \nOff Leash: Closed \nOutfitters: 9:00 am – 6:00 pm \nWildwoods: 10:00 am – 5:00 pm \nTrails: Please check the current trail status.
URL:https://center.whitewater.org/event/hours-of-operation-11-05-2024/
END:VEVENT
BEGIN:VEVENT
DTSTART;VALUE=DATE:20241104
DTEND;VALUE=DATE:20241105
DTSTAMP:20260423T103923
CREATED:20241031T130528Z
LAST-MODIFIED:20241104T132712Z
UID:64959-1730678400-1730764799@center.whitewater.org
SUMMARY:Hours of Operation
DESCRIPTION:Pass activities: 10:00 am – 6:00 pm \nTrail Center – Food & Beverage: Closed \nWater Release: Closed \nPump House Biergarten: Closed \nRiver’s Edge: 11:30 am – 6:00 pm \nThe Market: 11:00 am – 4:00 pm \nOff Leash: 9:00 am – 6:30 pm \nOutfitters: 9:00 am – 6:00 pm \nWildwoods: 10:00 am – 5:00 pm \nTrails: Please check the current trail status.
URL:https://center.whitewater.org/event/hours-of-operation-11-04-2024/
END:VEVENT
BEGIN:VEVENT
DTSTART;TZID=America/Halifax:20241103T113000
DTEND;TZID=America/Halifax:20241103T123000
DTSTAMP:20260423T103923
CREATED:20241101T143134Z
LAST-MODIFIED:20241101T143244Z
UID:64985-1730633400-1730637000@center.whitewater.org
SUMMARY:Pop Up Yoga
DESCRIPTION:Pop Up Yoga is offered on select Saturdays and Sundays all winter long. \nWhen the weather outlooks looks good for the weekend\, Whitewater will confirm its class schedule a few days ahead of the weekend. \nSee the Yoga Activity Page for more information.
URL:https://center.whitewater.org/event/pop-up-yoga-sun/
END:VEVENT
END:VCALENDAR