

BEGIN:VCALENDAR
VERSION:2.0
PRODID:-//Whitewater Center - ECPv6.7.0//NONSGML v1.0//EN
CALSCALE:GREGORIAN
METHOD:PUBLISH
X-WR-CALNAME:Whitewater Center
X-ORIGINAL-URL:https://center.whitewater.org
X-WR-CALDESC:Events for Whitewater Center
REFRESH-INTERVAL;VALUE=DURATION:PT1H
X-Robots-Tag:noindex
X-PUBLISHED-TTL:PT1H
BEGIN:VTIMEZONE
TZID:UTC
BEGIN:STANDARD
TZOFFSETFROM:+0000
TZOFFSETTO:+0000
TZNAME:UTC
DTSTART:20240101T000000
END:STANDARD
END:VTIMEZONE
BEGIN:VEVENT
DTSTART;TZID=UTC:20240831T070000
DTEND;TZID=UTC:20240831T103000
DTSTAMP:20260421T052107
CREATED:20220315T161238Z
LAST-MODIFIED:20240611T183722Z
UID:51713-1725087600-1725100200@center.whitewater.org
SUMMARY:Labor Day Trail Race
DESCRIPTION:
URL:https://center.whitewater.org/event/labor-day-trail-race-2/
CATEGORIES:Whitewater Race Series
END:VEVENT
END:VCALENDAR