

BEGIN:VCALENDAR
VERSION:2.0
PRODID:-//Whitewater Center - ECPv6.7.0//NONSGML v1.0//EN
CALSCALE:GREGORIAN
METHOD:PUBLISH
X-WR-CALNAME:Whitewater Center
X-ORIGINAL-URL:https://center.whitewater.org
X-WR-CALDESC:Events for Whitewater Center
REFRESH-INTERVAL;VALUE=DURATION:PT1H
X-Robots-Tag:noindex
X-PUBLISHED-TTL:PT1H
BEGIN:VTIMEZONE
TZID:America/Halifax
BEGIN:DAYLIGHT
TZOFFSETFROM:-0400
TZOFFSETTO:-0300
TZNAME:ADT
DTSTART:20240310T060000
END:DAYLIGHT
BEGIN:STANDARD
TZOFFSETFROM:-0300
TZOFFSETTO:-0400
TZNAME:AST
DTSTART:20241103T050000
END:STANDARD
END:VTIMEZONE
BEGIN:VEVENT
DTSTART;TZID=America/Halifax:20240405T200500
DTEND;TZID=America/Halifax:20240405T210000
DTSTAMP:20260421T203931
CREATED:20231005T134415Z
LAST-MODIFIED:20240319T194310Z
UID:59674-1712347500-1712350800@center.whitewater.org
SUMMARY:Film Series: Brit Rock
DESCRIPTION: 
URL:https://center.whitewater.org/event/film-series-brit-rock/
CATEGORIES:Whitewater Film Series
END:VEVENT
BEGIN:VEVENT
DTSTART;TZID=America/Halifax:20240412T201000
DTEND;TZID=America/Halifax:20240412T211000
DTSTAMP:20260421T203931
CREATED:20231005T133609Z
LAST-MODIFIED:20240319T194402Z
UID:59672-1712952600-1712956200@center.whitewater.org
SUMMARY:Film Series: Chasing
DESCRIPTION: 
URL:https://center.whitewater.org/event/film-series-chasing/
CATEGORIES:Whitewater Film Series
END:VEVENT
BEGIN:VEVENT
DTSTART;TZID=America/Halifax:20240426T202000
DTEND;TZID=America/Halifax:20240426T212000
DTSTAMP:20260421T203931
CREATED:20231003T171933Z
LAST-MODIFIED:20240319T194507Z
UID:59644-1714162800-1714166400@center.whitewater.org
SUMMARY:Film Series: North of Nightfall
DESCRIPTION: 
URL:https://center.whitewater.org/event/film-series-north-of-nightfall/
CATEGORIES:Whitewater Film Series
END:VEVENT
BEGIN:VEVENT
DTSTART;TZID=America/Halifax:20240426T212500
DTEND;TZID=America/Halifax:20240426T220000
DTSTAMP:20260421T203931
CREATED:20230201T195654Z
LAST-MODIFIED:20240320T154645Z
UID:56264-1714166700-1714168800@center.whitewater.org
SUMMARY:Film Series: Same Same But Different
DESCRIPTION: 
URL:https://center.whitewater.org/event/same-same-but-different/
CATEGORIES:Whitewater Film Series
END:VEVENT
END:VCALENDAR