

BEGIN:VCALENDAR
VERSION:2.0
PRODID:-//Whitewater Center - ECPv6.7.0//NONSGML v1.0//EN
CALSCALE:GREGORIAN
METHOD:PUBLISH
X-ORIGINAL-URL:https://center.whitewater.org
X-WR-CALDESC:Events for Whitewater Center
REFRESH-INTERVAL;VALUE=DURATION:PT1H
X-Robots-Tag:noindex
X-PUBLISHED-TTL:PT1H
BEGIN:VTIMEZONE
TZID:America/Halifax
BEGIN:DAYLIGHT
TZOFFSETFROM:-0400
TZOFFSETTO:-0300
TZNAME:ADT
DTSTART:20230312T060000
END:DAYLIGHT
BEGIN:STANDARD
TZOFFSETFROM:-0300
TZOFFSETTO:-0400
TZNAME:AST
DTSTART:20231105T050000
END:STANDARD
END:VTIMEZONE
BEGIN:VEVENT
DTSTART;TZID=America/Halifax:20230414T195500
DTEND;TZID=America/Halifax:20230414T213000
DTSTAMP:20260421T180519
CREATED:20230201T195547Z
LAST-MODIFIED:20230201T195634Z
UID:56263-1681502100-1681507800@center.whitewater.org
SUMMARY:Film Series: Desert Runners
DESCRIPTION: 
URL:https://center.whitewater.org/event/desert-runners/
CATEGORIES:Whitewater Film Series
END:VEVENT
END:VCALENDAR