

BEGIN:VCALENDAR
VERSION:2.0
PRODID:-//Whitewater Center - ECPv6.7.0//NONSGML v1.0//EN
CALSCALE:GREGORIAN
METHOD:PUBLISH
X-ORIGINAL-URL:https://center.whitewater.org
X-WR-CALDESC:Events for Whitewater Center
REFRESH-INTERVAL;VALUE=DURATION:PT1H
X-Robots-Tag:noindex
X-PUBLISHED-TTL:PT1H
BEGIN:VTIMEZONE
TZID:America/Halifax
BEGIN:DAYLIGHT
TZOFFSETFROM:-0400
TZOFFSETTO:-0300
TZNAME:ADT
DTSTART:20220313T060000
END:DAYLIGHT
BEGIN:STANDARD
TZOFFSETFROM:-0300
TZOFFSETTO:-0400
TZNAME:AST
DTSTART:20221106T050000
END:STANDARD
END:VTIMEZONE
BEGIN:VEVENT
DTSTART;TZID=America/Halifax:20221007T190000
DTEND;TZID=America/Halifax:20221007T213000
DTSTAMP:20260424T190053
CREATED:20220921T140325Z
LAST-MODIFIED:20220921T140423Z
UID:54472-1665169200-1665178200@center.whitewater.org
SUMMARY:Film Series: Reel Rock 16
DESCRIPTION: 
URL:https://center.whitewater.org/event/film-series-reel-rock-16/
CATEGORIES:Whitewater Film Series
END:VEVENT
BEGIN:VEVENT
DTSTART;TZID=America/Halifax:20221014T190000
DTEND;TZID=America/Halifax:20221014T213000
DTSTAMP:20260424T190053
CREATED:20220921T140615Z
LAST-MODIFIED:20220921T140718Z
UID:54474-1665774000-1665783000@center.whitewater.org
SUMMARY:Film Series: Under The Arctic Sky
DESCRIPTION: 
URL:https://center.whitewater.org/event/film-series-under-the-arctic-sky/
CATEGORIES:Whitewater Film Series
END:VEVENT
BEGIN:VEVENT
DTSTART;TZID=America/Halifax:20221021T183000
DTEND;TZID=America/Halifax:20221021T213000
DTSTAMP:20260424T190053
CREATED:20220921T164358Z
LAST-MODIFIED:20220921T164428Z
UID:54479-1666377000-1666387800@center.whitewater.org
SUMMARY:Film Series
DESCRIPTION: 
URL:https://center.whitewater.org/event/film-series/
CATEGORIES:Whitewater Film Series
END:VEVENT
BEGIN:VEVENT
DTSTART;TZID=America/Halifax:20221028T190000
DTEND;TZID=America/Halifax:20221028T213000
DTSTAMP:20260424T190053
CREATED:20220831T151249Z
LAST-MODIFIED:20220831T151401Z
UID:54175-1666983600-1666992600@center.whitewater.org
SUMMARY:Film Series: Bicycle Film Festival
DESCRIPTION: 
URL:https://center.whitewater.org/event/film-series-bicycle-film-festival/
CATEGORIES:Whitewater Film Series
END:VEVENT
END:VCALENDAR