

BEGIN:VCALENDAR
VERSION:2.0
PRODID:-//Whitewater Center - ECPv6.7.0//NONSGML v1.0//EN
CALSCALE:GREGORIAN
METHOD:PUBLISH
X-WR-CALNAME:Whitewater Center
X-ORIGINAL-URL:https://center.whitewater.org
X-WR-CALDESC:Events for Whitewater Center
REFRESH-INTERVAL;VALUE=DURATION:PT1H
X-Robots-Tag:noindex
X-PUBLISHED-TTL:PT1H
BEGIN:VTIMEZONE
TZID:America/Halifax
BEGIN:DAYLIGHT
TZOFFSETFROM:-0400
TZOFFSETTO:-0300
TZNAME:ADT
DTSTART:20240310T060000
END:DAYLIGHT
BEGIN:STANDARD
TZOFFSETFROM:-0300
TZOFFSETTO:-0400
TZNAME:AST
DTSTART:20241103T050000
END:STANDARD
END:VTIMEZONE
BEGIN:VEVENT
DTSTART;TZID=America/Halifax:20240920T183000
DTEND;TZID=America/Halifax:20240920T213000
DTSTAMP:20260420T094012
CREATED:20220330T204337Z
LAST-MODIFIED:20240409T182947Z
UID:51975-1726857000-1726867800@center.whitewater.org
SUMMARY:River Jam: The Mallet Brothers Band
DESCRIPTION:
URL:https://center.whitewater.org/event/the-mallet-brothers-band/
CATEGORIES:Live Music
END:VEVENT
END:VCALENDAR