

BEGIN:VCALENDAR
VERSION:2.0
PRODID:-//Whitewater Center - ECPv6.7.0//NONSGML v1.0//EN
CALSCALE:GREGORIAN
METHOD:PUBLISH
X-WR-CALNAME:Whitewater Center
X-ORIGINAL-URL:https://center.whitewater.org
X-WR-CALDESC:Events for Whitewater Center
REFRESH-INTERVAL;VALUE=DURATION:PT1H
X-Robots-Tag:noindex
X-PUBLISHED-TTL:PT1H
BEGIN:VTIMEZONE
TZID:America/Halifax
BEGIN:DAYLIGHT
TZOFFSETFROM:-0400
TZOFFSETTO:-0300
TZNAME:ADT
DTSTART:20240310T060000
END:DAYLIGHT
BEGIN:STANDARD
TZOFFSETFROM:-0300
TZOFFSETTO:-0400
TZNAME:AST
DTSTART:20241103T050000
END:STANDARD
END:VTIMEZONE
BEGIN:VEVENT
DTSTART;TZID=America/Halifax:20240801T183000
DTEND;TZID=America/Halifax:20240801T213000
DTSTAMP:20260424T211835
CREATED:20220331T135119Z
LAST-MODIFIED:20240409T200154Z
UID:52017-1722537000-1722547800@center.whitewater.org
SUMMARY:River Jam: The Kind Thieves
DESCRIPTION:
URL:https://center.whitewater.org/event/river-jam-kind-thieves/
CATEGORIES:Live Music
END:VEVENT
END:VCALENDAR