

BEGIN:VCALENDAR
VERSION:2.0
PRODID:-//Whitewater Center - ECPv6.7.0//NONSGML v1.0//EN
CALSCALE:GREGORIAN
METHOD:PUBLISH
X-WR-CALNAME:Whitewater Center
X-ORIGINAL-URL:https://center.whitewater.org
X-WR-CALDESC:Events for Whitewater Center
REFRESH-INTERVAL;VALUE=DURATION:PT1H
X-Robots-Tag:noindex
X-PUBLISHED-TTL:PT1H
BEGIN:VTIMEZONE
TZID:America/Halifax
BEGIN:DAYLIGHT
TZOFFSETFROM:-0400
TZOFFSETTO:-0300
TZNAME:ADT
DTSTART:20240310T060000
END:DAYLIGHT
BEGIN:STANDARD
TZOFFSETFROM:-0300
TZOFFSETTO:-0400
TZNAME:AST
DTSTART:20241103T050000
END:STANDARD
TZID:UTC
BEGIN:STANDARD
TZOFFSETFROM:+0000
TZOFFSETTO:+0000
TZNAME:UTC
DTSTART:20240101T000000
END:STANDARD
END:VTIMEZONE
BEGIN:VEVENT
DTSTART;TZID=America/Halifax:20240801T183000
DTEND;TZID=America/Halifax:20240801T213000
DTSTAMP:20260424T104950
CREATED:20220331T135119Z
LAST-MODIFIED:20240409T200154Z
UID:52017-1722537000-1722547800@center.whitewater.org
SUMMARY:River Jam: The Kind Thieves
DESCRIPTION:
URL:https://center.whitewater.org/event/river-jam-kind-thieves/
CATEGORIES:Live Music
END:VEVENT
BEGIN:VEVENT
DTSTART;TZID=America/Halifax:20240802T183000
DTEND;TZID=America/Halifax:20240802T213000
DTSTAMP:20260424T104950
CREATED:20230331T144508Z
LAST-MODIFIED:20240409T181255Z
UID:57137-1722623400-1722634200@center.whitewater.org
SUMMARY:River Jam: The Mammoths
DESCRIPTION:
URL:https://center.whitewater.org/event/river-jam-the-mammoths/
CATEGORIES:Live Music
END:VEVENT
BEGIN:VEVENT
DTSTART;TZID=America/Halifax:20240803T183000
DTEND;TZID=America/Halifax:20240803T213000
DTSTAMP:20260424T104950
CREATED:20220331T171035Z
LAST-MODIFIED:20240409T181350Z
UID:52039-1722709800-1722720600@center.whitewater.org
SUMMARY:River Jam: Blue Footed Boobies
DESCRIPTION:
URL:https://center.whitewater.org/event/blue-footed-boobies/
CATEGORIES:Live Music
END:VEVENT
BEGIN:VEVENT
DTSTART;TZID=America/Halifax:20240808T183000
DTEND;TZID=America/Halifax:20240808T213000
DTSTAMP:20260424T104950
CREATED:20230331T143557Z
LAST-MODIFIED:20240409T181437Z
UID:57133-1723141800-1723152600@center.whitewater.org
SUMMARY:River Jam: Random Animals
DESCRIPTION:
URL:https://center.whitewater.org/event/river-jam-random-animals/
CATEGORIES:Live Music
END:VEVENT
BEGIN:VEVENT
DTSTART;TZID=America/Halifax:20240809T183000
DTEND;TZID=America/Halifax:20240809T213000
DTSTAMP:20260424T104950
CREATED:20220330T214902Z
LAST-MODIFIED:20240409T181524Z
UID:52008-1723228200-1723239000@center.whitewater.org
SUMMARY:River Jam: Abbey Elmore Band
DESCRIPTION:
URL:https://center.whitewater.org/event/abbey-elmore-band/
CATEGORIES:Live Music
END:VEVENT
BEGIN:VEVENT
DTSTART;TZID=America/Halifax:20240810T183000
DTEND;TZID=America/Halifax:20240810T183000
DTSTAMP:20260424T104950
CREATED:20230331T144930Z
LAST-MODIFIED:20240409T181607Z
UID:57138-1723314600-1723314600@center.whitewater.org
SUMMARY:River Jam: The Feels
DESCRIPTION:
URL:https://center.whitewater.org/event/river-jam-airpark/
CATEGORIES:Live Music
END:VEVENT
BEGIN:VEVENT
DTSTART;TZID=America/Halifax:20240815T183000
DTEND;TZID=America/Halifax:20240815T213000
DTSTAMP:20260424T104950
CREATED:20220310T185254Z
LAST-MODIFIED:20240409T181651Z
UID:51622-1723746600-1723757400@center.whitewater.org
SUMMARY:River Jam: The Local Honeys
DESCRIPTION:
URL:https://center.whitewater.org/event/river-jam-the-local-honeys/
CATEGORIES:Live Music
END:VEVENT
BEGIN:VEVENT
DTSTART;TZID=America/Halifax:20240816T183000
DTEND;TZID=America/Halifax:20240816T213000
DTSTAMP:20260424T104950
CREATED:20230331T193714Z
LAST-MODIFIED:20240730T213639Z
UID:57207-1723833000-1723843800@center.whitewater.org
SUMMARY:River Jam: Fo Daniels
DESCRIPTION:
URL:https://center.whitewater.org/event/fo-daniels/
CATEGORIES:Live Music
END:VEVENT
BEGIN:VEVENT
DTSTART;TZID=America/Halifax:20240817T183000
DTEND;TZID=America/Halifax:20240817T183000
DTSTAMP:20260424T104950
CREATED:20220302T204040Z
LAST-MODIFIED:20240409T181836Z
UID:51039-1723919400-1723919400@center.whitewater.org
SUMMARY:River Jam: Pretty Little Goat
DESCRIPTION:
URL:https://center.whitewater.org/event/river-jam-pretty-little-goat/
CATEGORIES:Live Music
END:VEVENT
BEGIN:VEVENT
DTSTART;TZID=America/Halifax:20240822T183000
DTEND;TZID=America/Halifax:20240822T213000
DTSTAMP:20260424T104950
CREATED:20230331T143709Z
LAST-MODIFIED:20240429T160638Z
UID:57134-1724351400-1724362200@center.whitewater.org
SUMMARY:River Jam: Joe Hertler & The Rainbow Seekers
DESCRIPTION:
URL:https://center.whitewater.org/event/river-jam-joe-hertler-the-rainbow-seekers/
CATEGORIES:Live Music
END:VEVENT
BEGIN:VEVENT
DTSTART;TZID=America/Halifax:20240823T183000
DTEND;TZID=America/Halifax:20240823T213000
DTSTAMP:20260424T104950
CREATED:20220330T214339Z
LAST-MODIFIED:20240409T182033Z
UID:52003-1724437800-1724448600@center.whitewater.org
SUMMARY:River Jam: The Greenliners
DESCRIPTION:
URL:https://center.whitewater.org/event/the-greenliners/
CATEGORIES:Live Music
END:VEVENT
BEGIN:VEVENT
DTSTART;TZID=America/Halifax:20240824T183000
DTEND;TZID=America/Halifax:20240824T213000
DTSTAMP:20260424T104950
CREATED:20230331T152958Z
LAST-MODIFIED:20240627T173003Z
UID:57156-1724524200-1724535000@center.whitewater.org
SUMMARY:River Jam: Patrick Sweany
DESCRIPTION:
URL:https://center.whitewater.org/event/river-jam-patrick-sweany/
CATEGORIES:Live Music
END:VEVENT
BEGIN:VEVENT
DTSTART;TZID=America/Halifax:20240829T183000
DTEND;TZID=America/Halifax:20240829T213000
DTSTAMP:20260424T104950
CREATED:20230331T144323Z
LAST-MODIFIED:20240409T182138Z
UID:57135-1724956200-1724967000@center.whitewater.org
SUMMARY:River Jam: Deaf Andrews
DESCRIPTION:
URL:https://center.whitewater.org/event/river-jam-deaf-andrews/
CATEGORIES:Live Music
END:VEVENT
BEGIN:VEVENT
DTSTART;TZID=America/Halifax:20240830T183000
DTEND;TZID=America/Halifax:20240830T213000
DTSTAMP:20260424T104950
CREATED:20220330T213318Z
LAST-MODIFIED:20240409T182306Z
UID:51998-1725042600-1725053400@center.whitewater.org
SUMMARY:River Jam: The Psycodelics
DESCRIPTION:
URL:https://center.whitewater.org/event/the-psycodelics/
CATEGORIES:Live Music
END:VEVENT
BEGIN:VEVENT
DTSTART;TZID=UTC:20240831T080000
DTEND;TZID=UTC:20240901T220000
DTSTAMP:20260424T104950
CREATED:20220315T160309Z
LAST-MODIFIED:20240901T220804Z
UID:51707-1725091200-1725228000@center.whitewater.org
SUMMARY:Labor Day Celebration
DESCRIPTION:UPDATE: Due to inclement weather\, the Labor Day Celebration and all programming have been cancelled. 
URL:https://center.whitewater.org/event/labor-day-celebration-2/
CATEGORIES:Live Music
END:VEVENT
BEGIN:VEVENT
DTSTART;TZID=America/Halifax:20240831T183000
DTEND;TZID=America/Halifax:20240831T213000
DTSTAMP:20260424T104950
CREATED:20220309T214239Z
LAST-MODIFIED:20240409T182343Z
UID:51567-1725129000-1725139800@center.whitewater.org
SUMMARY:River Jam: Mike Strauss Band
DESCRIPTION:
URL:https://center.whitewater.org/event/mike-strauss-band/
CATEGORIES:Live Music
END:VEVENT
END:VCALENDAR