

BEGIN:VCALENDAR
VERSION:2.0
PRODID:-//Whitewater Center - ECPv6.7.0//NONSGML v1.0//EN
CALSCALE:GREGORIAN
METHOD:PUBLISH
X-ORIGINAL-URL:https://center.whitewater.org
X-WR-CALDESC:Events for Whitewater Center
REFRESH-INTERVAL;VALUE=DURATION:PT1H
X-Robots-Tag:noindex
X-PUBLISHED-TTL:PT1H
BEGIN:VTIMEZONE
TZID:America/New_York
BEGIN:DAYLIGHT
TZOFFSETFROM:-0500
TZOFFSETTO:-0400
TZNAME:EDT
DTSTART:20240310T070000
END:DAYLIGHT
BEGIN:STANDARD
TZOFFSETFROM:-0400
TZOFFSETTO:-0500
TZNAME:EST
DTSTART:20241103T060000
END:STANDARD
END:VTIMEZONE
BEGIN:VEVENT
DTSTART;VALUE=DATE:20241029
DTEND;VALUE=DATE:20241030
DTSTAMP:20260420T025034
CREATED:20240923T214715Z
LAST-MODIFIED:20241029T130647Z
UID:64203-1730160000-1730246399@center.whitewater.org
SUMMARY:Hours of Operation
DESCRIPTION:Pass activities: 11:00 am – 5:00 pm \nTrail Center – Food & Beverage: Closed \nWater Release: Closed \nPump House Biergarten: Closed \nRiver’s Edge: Closed \nThe Market: 10:00 am – 4:00 pm \nOff Leash: 9:00 am – 7:30 pm \nOutfitters: 9:00 am – 4:00 pm \nWildwoods: 10:00 am – 6:00 pm \nTrails: Please check the current trail status.
URL:https://center.whitewater.org/event/hours-of-operation-10-29-2024/
END:VEVENT
END:VCALENDAR