

BEGIN:VCALENDAR
VERSION:2.0
PRODID:-//Whitewater Center - ECPv6.7.0//NONSGML v1.0//EN
CALSCALE:GREGORIAN
METHOD:PUBLISH
X-WR-CALNAME:Whitewater Center
X-ORIGINAL-URL:https://center.whitewater.org
X-WR-CALDESC:Events for Whitewater Center
REFRESH-INTERVAL;VALUE=DURATION:PT1H
X-Robots-Tag:noindex
X-PUBLISHED-TTL:PT1H
BEGIN:VTIMEZONE
TZID:America/New_York
BEGIN:DAYLIGHT
TZOFFSETFROM:-0500
TZOFFSETTO:-0400
TZNAME:EDT
DTSTART:20240310T070000
END:DAYLIGHT
BEGIN:STANDARD
TZOFFSETFROM:-0400
TZOFFSETTO:-0500
TZNAME:EST
DTSTART:20241103T060000
END:STANDARD
TZID:America/Halifax
BEGIN:DAYLIGHT
TZOFFSETFROM:-0400
TZOFFSETTO:-0300
TZNAME:ADT
DTSTART:20240310T060000
END:DAYLIGHT
BEGIN:STANDARD
TZOFFSETFROM:-0300
TZOFFSETTO:-0400
TZNAME:AST
DTSTART:20241103T050000
END:STANDARD
END:VTIMEZONE
BEGIN:VEVENT
DTSTART;VALUE=DATE:20240124
DTEND;VALUE=DATE:20240125
DTSTAMP:20260424T121459
CREATED:20240107T175349Z
LAST-MODIFIED:20240124T004150Z
UID:60619-1706054400-1706140799@center.whitewater.org
SUMMARY:Hours of Operation
DESCRIPTION:Pass activities: 12:00 pm – 10:00 pm \nTrail Center – Food & Beverage: 12:00 pm – 10:00 pm \nWater Release: Closed \nPump House Biergarten: Closed \nRiver’s Edge: Closed \nThe Market: Closed \nOutfitters: 9:00 am – 8:00 pm \nTrails: Please check the current trail status.
URL:https://center.whitewater.org/event/hours-of-operation-01-24-2024/
END:VEVENT
BEGIN:VEVENT
DTSTART;TZID=America/Halifax:20240124T183000
DTEND;TZID=America/Halifax:20240124T210000
DTSTAMP:20260424T121459
CREATED:20221202T183111Z
LAST-MODIFIED:20240126T220442Z
UID:55567-1706121000-1706130000@center.whitewater.org
SUMMARY:Skate and Date
DESCRIPTION:
URL:https://center.whitewater.org/event/skate-and-date/2024-01-24/
END:VEVENT
END:VCALENDAR