

BEGIN:VCALENDAR
VERSION:2.0
PRODID:-//Whitewater Center - ECPv6.7.0//NONSGML v1.0//EN
CALSCALE:GREGORIAN
METHOD:PUBLISH
X-ORIGINAL-URL:https://center.whitewater.org
X-WR-CALDESC:Events for Whitewater Center
REFRESH-INTERVAL;VALUE=DURATION:PT1H
X-Robots-Tag:noindex
X-PUBLISHED-TTL:PT1H
BEGIN:VTIMEZONE
TZID:America/New_York
BEGIN:DAYLIGHT
TZOFFSETFROM:-0500
TZOFFSETTO:-0400
TZNAME:EDT
DTSTART:20230312T070000
END:DAYLIGHT
BEGIN:STANDARD
TZOFFSETFROM:-0400
TZOFFSETTO:-0500
TZNAME:EST
DTSTART:20231105T060000
END:STANDARD
TZID:America/Halifax
BEGIN:DAYLIGHT
TZOFFSETFROM:-0400
TZOFFSETTO:-0300
TZNAME:ADT
DTSTART:20230312T060000
END:DAYLIGHT
BEGIN:STANDARD
TZOFFSETFROM:-0300
TZOFFSETTO:-0400
TZNAME:AST
DTSTART:20231105T050000
END:STANDARD
END:VTIMEZONE
BEGIN:VEVENT
DTSTART;VALUE=DATE:20230927
DTEND;VALUE=DATE:20230928
DTSTAMP:20260422T133658
CREATED:20230905T172202Z
LAST-MODIFIED:20230927T212734Z
UID:59398-1695772800-1695859199@center.whitewater.org
SUMMARY:Hours of Operation
DESCRIPTION:Pass activities: 10:00 am – 6:00 pm \nTrail Center – Food & Beverage: 11:00 am – 5:00 pm \nWater Release: 11:30 am – 5:30 pm \nPump House Biergarten: Closed \nRiver’s Edge: 11:30 am – 5:00 pm \nThe Market: Closed \nOutfitters: 9:00 am – 7:00 pm \nTrails: Please check the current trail status.
URL:https://center.whitewater.org/event/hours-of-operation-09-27-2023/
END:VEVENT
BEGIN:VEVENT
DTSTART;TZID=America/Halifax:20230927T180000
DTEND;TZID=America/Halifax:20230927T210000
DTSTAMP:20260422T133658
CREATED:20220928T134035Z
LAST-MODIFIED:20230802T163946Z
UID:54610-1695837600-1695848400@center.whitewater.org
SUMMARY:Zipline & Dine
DESCRIPTION:
URL:https://center.whitewater.org/event/zipline-dine/2023-09-27/
CATEGORIES:Adventure Dining
END:VEVENT
END:VCALENDAR