

BEGIN:VCALENDAR
VERSION:2.0
PRODID:-//Whitewater Center - ECPv6.7.0//NONSGML v1.0//EN
CALSCALE:GREGORIAN
METHOD:PUBLISH
X-WR-CALNAME:Whitewater Center
X-ORIGINAL-URL:https://center.whitewater.org
X-WR-CALDESC:Events for Whitewater Center
REFRESH-INTERVAL;VALUE=DURATION:PT1H
X-Robots-Tag:noindex
X-PUBLISHED-TTL:PT1H
BEGIN:VTIMEZONE
TZID:America/New_York
BEGIN:DAYLIGHT
TZOFFSETFROM:-0500
TZOFFSETTO:-0400
TZNAME:EDT
DTSTART:20220313T070000
END:DAYLIGHT
BEGIN:STANDARD
TZOFFSETFROM:-0400
TZOFFSETTO:-0500
TZNAME:EST
DTSTART:20221106T060000
END:STANDARD
TZID:America/Halifax
BEGIN:DAYLIGHT
TZOFFSETFROM:-0400
TZOFFSETTO:-0300
TZNAME:ADT
DTSTART:20220313T060000
END:DAYLIGHT
BEGIN:STANDARD
TZOFFSETFROM:-0300
TZOFFSETTO:-0400
TZNAME:AST
DTSTART:20221106T050000
END:STANDARD
END:VTIMEZONE
BEGIN:VEVENT
DTSTART;VALUE=DATE:20221112
DTEND;VALUE=DATE:20221113
DTSTAMP:20260420T234631
CREATED:20221023T135858Z
LAST-MODIFIED:20221112T141114Z
UID:54910-1668211200-1668297599@center.whitewater.org
SUMMARY:Hours of Operation
DESCRIPTION:Pass activities: 10:00 am – 5:00 pm \nTrail Center – Food & Beverage: 12:00 pm – 5:00 pm \nWater Release: Closed \nPump House Biergarten: Closed \nRiver’s Edge: 11:00 am – 6:00 pm \nThe Market: Closed \nOutfitters: 9:00 am – 6:00 pm \nTrails: Please check the current trail status.
URL:https://center.whitewater.org/event/hours-of-operation-11-12-2022/
END:VEVENT
BEGIN:VEVENT
DTSTART;TZID=America/Halifax:20221112T090000
DTEND;TZID=America/Halifax:20221112T170000
DTSTAMP:20260420T234631
CREATED:20220808T232657Z
LAST-MODIFIED:20220808T232741Z
UID:53830-1668243600-1668272400@center.whitewater.org
SUMMARY:Long Creek Adventure Race
DESCRIPTION:
URL:https://center.whitewater.org/event/long-creek-adventure-race-2/
END:VEVENT
END:VCALENDAR